BEGIN:VCALENDAR
VERSION:2.0
PRODID:-//Drupal//recurring_events_ical//2.0//EN
BEGIN:VEVENT
UID:677aeec6-3338-40c9-8cd2-4c6a45d0f6b7@events.stage.louisville.edu
DTSTAMP:20260424T161940Z
DTSTART:20290328T110000Z
DTEND:20290328T110000Z
SUMMARY:Testing Services
CONTACT:Tammy Jones-Scrogham\, 502-852-6606\, email:testing@louisville.edu
DESCRIPTION:Will you please add Testing Services as part of the offices lis
 ted in Davidson Hall?  Thank you!
URL:https://events.stage.louisville.edu/events/testing-services/2029-03-28
END:VEVENT
END:VCALENDAR