BEGIN:VCALENDAR
VERSION:2.0
PRODID:-//Drupal//recurring_events_ical//2.0//EN
BEGIN:VEVENT
UID:94c91487-e463-4886-8366-a33c6fb75bcd@events.stage.louisville.edu
DTSTAMP:20260424T162037Z
DTSTART:20290329T110000Z
DTEND:20290329T110000Z
SUMMARY:Testing Services
CONTACT:Tammy Jones-Scrogham\, 502-852-6606\, email:testing@louisville.edu
DESCRIPTION:Will you please add Testing Services as part of the offices lis
 ted in Davidson Hall?  Thank you!
URL:https://events.stage.louisville.edu/events/testing-services/2029-03-29
END:VEVENT
END:VCALENDAR