BEGIN:VCALENDAR
VERSION:2.0
PRODID:-//Drupal//recurring_events_ical//2.0//EN
BEGIN:VEVENT
UID:2ca79aa7-4f31-4c44-8ef8-3b862848148a@events.stage.louisville.edu
DTSTAMP:20260424T180047Z
DTSTART:20290409T110000Z
DTEND:20290409T110000Z
SUMMARY:Testing Services
CONTACT:Tammy Jones-Scrogham\, 502-852-6606\, email:testing@louisville.edu
DESCRIPTION:Will you please add Testing Services as part of the offices lis
 ted in Davidson Hall?  Thank you!
URL:https://events.stage.louisville.edu/events/testing-services/2029-04-09
END:VEVENT
END:VCALENDAR