BEGIN:VCALENDAR
VERSION:2.0
PRODID:-//Drupal//recurring_events_ical//2.0//EN
BEGIN:VEVENT
UID:747e96fb-8e1a-4897-8ede-1044d8a24a86@events.stage.louisville.edu
DTSTAMP:20260424T162401Z
DTSTART:20290411T110000Z
DTEND:20290411T110000Z
SUMMARY:Testing Services
CONTACT:Tammy Jones-Scrogham\, 502-852-6606\, email:testing@louisville.edu
DESCRIPTION:Will you please add Testing Services as part of the offices lis
 ted in Davidson Hall?  Thank you!
URL:https://events.stage.louisville.edu/events/testing-services/2029-04-11
END:VEVENT
END:VCALENDAR