BEGIN:VCALENDAR
VERSION:2.0
PRODID:-//Drupal//recurring_events_ical//2.0//EN
BEGIN:VEVENT
UID:ed1832d9-03d9-421f-99a0-713b5fe285de@events.stage.louisville.edu
DTSTAMP:20260424T162348Z
DTSTART:20290416T110000Z
DTEND:20290416T110000Z
SUMMARY:Testing Services
CONTACT:Tammy Jones-Scrogham\, 502-852-6606\, email:testing@louisville.edu
DESCRIPTION:Will you please add Testing Services as part of the offices lis
 ted in Davidson Hall?  Thank you!
URL:https://events.stage.louisville.edu/events/testing-services/2029-04-16
END:VEVENT
END:VCALENDAR