BEGIN:VCALENDAR
VERSION:2.0
PRODID:-//Drupal//recurring_events_ical//2.0//EN
BEGIN:VEVENT
UID:45c09343-c6de-4557-aa98-4c0e74c6b500@events.stage.louisville.edu
DTSTAMP:20260424T162246Z
DTSTART:20290419T110000Z
DTEND:20290419T110000Z
SUMMARY:Testing Services
CONTACT:Tammy Jones-Scrogham\, 502-852-6606\, email:testing@louisville.edu
DESCRIPTION:Will you please add Testing Services as part of the offices lis
 ted in Davidson Hall?  Thank you!
URL:https://events.stage.louisville.edu/events/testing-services/2029-04-19
END:VEVENT
END:VCALENDAR