BEGIN:VCALENDAR
VERSION:2.0
PRODID:-//Drupal//recurring_events_ical//2.0//EN
BEGIN:VEVENT
UID:802dbce7-c895-433f-9542-254843a1a120@events.stage.louisville.edu
DTSTAMP:20260424T162350Z
DTSTART:20290430T110000Z
DTEND:20290430T110000Z
SUMMARY:Testing Services
CONTACT:Tammy Jones-Scrogham\, 502-852-6606\, email:testing@louisville.edu
DESCRIPTION:Will you please add Testing Services as part of the offices lis
 ted in Davidson Hall?  Thank you!
URL:https://events.stage.louisville.edu/events/testing-services/2029-04-30
END:VEVENT
END:VCALENDAR