BEGIN:VCALENDAR
VERSION:2.0
PRODID:-//Drupal//recurring_events_ical//2.0//EN
BEGIN:VEVENT
UID:01416c87-238e-4077-b8e1-fb209b85086e@events.stage.louisville.edu
DTSTAMP:20260424T161909Z
DTSTART:20290501T110000Z
DTEND:20290501T110000Z
SUMMARY:Testing Services
CONTACT:Tammy Jones-Scrogham\, 502-852-6606\, email:testing@louisville.edu
DESCRIPTION:Will you please add Testing Services as part of the offices lis
 ted in Davidson Hall?  Thank you!
URL:https://events.stage.louisville.edu/events/testing-services/2029-05-01
END:VEVENT
END:VCALENDAR