BEGIN:VCALENDAR
VERSION:2.0
PRODID:-//Drupal//recurring_events_ical//2.0//EN
BEGIN:VEVENT
UID:3607442c-9c12-4061-b000-d636054d858a@events.stage.louisville.edu
DTSTAMP:20260423T171959Z
DTSTART:20250609T190000Z
DTEND:20250609T200000Z
SUMMARY:School of Dentistry DMD Program Virtual Information Session
CONTACT:DMD Student Admissions\, 502-852-5081\, email:dmdadms@louisville.ed
 u
DESCRIPTION:This session is designed for either prospective students planni
 ng to apply to the University of Louisville School of Dentistry (ULSD) in 
 a future application cycle or individuals planning to reapply to ULSD afte
 r an unsuccessful admissions cycle.\n\nAdmissions staff will provide an ov
 erview of the application process and provide insight on what to expect du
 ring your four years of dental education at ULSD.
URL:https://events.stage.louisville.edu/events/school-dentistry-dmd-program
 -virtual-information-session-3/2025-06-09
END:VEVENT
END:VCALENDAR