BEGIN:VCALENDAR
VERSION:2.0
PRODID:-//Drupal//recurring_events_ical//2.0//EN
BEGIN:VEVENT
UID:760b507c-cc2f-4a1e-a5cf-8eae61c26e52@events.stage.louisville.edu
DTSTAMP:20260423T170938Z
DTSTART:20260316T200000Z
DTEND:20260316T210000Z
SUMMARY:Spring Garden Gatherings 2026
CONTACT:Jacob Brown\, 606-375-5565\, email:jacob.brown.3@louisville.edu
DESCRIPTION:Mondays, 4pm at the Urban & Public Affairs Garden (426 W. Bloom
  St., behind Bettie Johnson Hall)\n\nThursdays, 12:30pm at the Garden Com
 mons (northeast of the Baptist Center)\n\nUofL’s organic campus gardens
  are great places to relax, reconnect, learn, and savor the sweet taste of
  sustainability!\n\nStudents, faculty, staff, and the public are all welco
 me to come experience the thrill of turning tiny seeds into an abundance o
 f hyper-local veggies, herbs, fruit & flowers.\n\nStop by anytime to sampl
 e the goodness and help us keep things watered and weeded.\n\nWe will gath
 er weekly at both of our campus food gardens throughout the spring (Jan. 2
 2 - May 28) to plant, weed, water & harvest. Tools and gloves provided.\n\
 nMonthly hands-on Garden Workshops will also be offered at these times.  
 \n\nEveryone who comes is welcome to share in the harvest!\n\nConnect with
  us and get all the details on Facebook or Instagram.\n\nFacebook Event.
GEO:38.2220;-85.7639
LOCATION:Urban Studies Institute
URL:https://events.stage.louisville.edu/events/spring-garden-gatherings-202
 6-0/2026-03-16
END:VEVENT
END:VCALENDAR