BEGIN:VCALENDAR
VERSION:2.0
PRODID:-//Drupal//recurring_events_ical//2.0//EN
BEGIN:VEVENT
UID:427a6eac-7ac6-411d-bf5b-4131a486ede6@events.stage.louisville.edu
DTSTAMP:20260423T094845Z
DTSTART:20271022T160000Z
DTEND:20271022T170000Z
SUMMARY:College of Business Graduate Programs - FRIDAY Virtual Info Session
CONTACT:Jillian Misbach\, 5028524851\, email:Jillian.Misbach@Louisville.edu
DESCRIPTION:Learn how to elevate your career with a graduate program from t
 he UofL College of Business. You’re invited to attend convenient virtual
  information sessions held every Friday at 12 p.m. Eastern Standard Time.
  Sign up today!\n\nWe will discuss all of our globally-recognized programs
 :\n\n\n	Accelerated 12-month Full-Time MBA\n	20-month Innovation MBA\n	20-
 month Professional MBA\n	20-month Online MBA\n	Accelerated 12-month Master
  Science in Accounting and Analytics (MSAA)\n	Accelerated 12-month Master 
 of Science in Business Analytics (MSBA) -*On-Campus and Online Options Ava
 ilable\n	20-Month Online MSBA - August start only.\n\n\n\nLearn more – R
 egister to attend.
URL:https://events.stage.louisville.edu/events/college-business-graduate-pr
 ograms-friday-virtual-info-session/2027-10-22
END:VEVENT
END:VCALENDAR