BEGIN:VCALENDAR
VERSION:2.0
PRODID:-//Drupal//recurring_events_ical//2.0//EN
BEGIN:VEVENT
UID:711c87c2-61ec-4fe7-99b4-879a5a618b81@events.stage.louisville.edu
DTSTAMP:20260423T135555Z
DTSTART:20260116T200000Z
DTEND:20260116T210000Z
SUMMARY:Graduate Student Writing Group
CONTACT:MacKenzie Croley \, 502-852-2173\, email:writing@louisville.edu
DESCRIPTION:Need some accountability, a zen space, and some caffeine to get
  writing done? Consider joining the University Writing Center’s Graduate
  Student Writing Group on Fridays from 3-4 p.m. in Ekstrom 132 or on Teams
 . All dissertation and thesis writers are welcome. The group will be hoste
 d by Assistant Director MacKenzie Croley who will offer writing motivation
 , help you set daily writing goals, and troubleshoot writing problems. Joi
 n any time: no commitment necessary. 
URL:https://events.stage.louisville.edu/events/graduate-student-writing-gro
 up-2/2026-01-16
END:VEVENT
END:VCALENDAR