BEGIN:VCALENDAR
VERSION:2.0
PRODID:-//Drupal//recurring_events_ical//2.0//EN
BEGIN:VEVENT
UID:d4a5bbec-cd63-4572-a50e-00b17cb728a6@events.stage.louisville.edu
DTSTAMP:20260423T135457Z
DTSTART:20260123T210000Z
DTEND:20260123T220000Z
SUMMARY:Creative Writing Group: Coalition of Advanced Writers
CONTACT:Carrie Callahan\, 502-852-2173\, email:writing@louisville.edu
DESCRIPTION:Serious about your creative writing? Looking for a group to off
 er solid feedback on your work in progress? Come to CAW! We meet twice a m
 onth to offer critique and community.
URL:https://events.stage.louisville.edu/events/creative-writing-group-coali
 tion-advanced-writers-0/2026-01-23
END:VEVENT
END:VCALENDAR