BEGIN:VCALENDAR
VERSION:2.0
PRODID:-//Drupal//recurring_events_ical//2.0//EN
BEGIN:VEVENT
UID:1ffccb29-9e46-4502-a9f6-59949819466b@events.stage.louisville.edu
DTSTAMP:20260423T135556Z
DTSTART:20260227T210000Z
DTEND:20260227T220000Z
SUMMARY:Creative Writing Group: Coalition of Advanced Writers
CONTACT:Carrie Callahan\, 502-852-2173\, email:writing@louisville.edu
DESCRIPTION:Serious about your creative writing? Looking for a group to off
 er solid feedback on your work in progress? Come to CAW! We meet twice a m
 onth to offer critique and community.
URL:https://events.stage.louisville.edu/events/creative-writing-group-coali
 tion-advanced-writers-0/2026-02-27
END:VEVENT
END:VCALENDAR