BEGIN:VCALENDAR
VERSION:2.0
PRODID:-//Drupal//recurring_events_ical//2.0//EN
BEGIN:VEVENT
UID:b4a657ef-2102-43e1-b530-4c7e4e796a9a@events.stage.louisville.edu
DTSTAMP:20260423T093801Z
DTSTART:20260424T200000Z
DTEND:20260424T210000Z
SUMMARY:Creative Writing Group: Coalition of Advanced Writers
CONTACT:Carrie Callahan\, 502-852-2173\, email:writing@louisville.edu
DESCRIPTION:Serious about your creative writing? Looking for a group to off
 er solid feedback on your work in progress? Come to CAW! We meet twice a m
 onth to offer critique and community.
URL:https://events.stage.louisville.edu/events/creative-writing-group-coali
 tion-advanced-writers-0/2026-04-24
END:VEVENT
END:VCALENDAR