BEGIN:VCALENDAR
VERSION:2.0
PRODID:-//Drupal//recurring_events_ical//2.0//EN
BEGIN:VEVENT
UID:e6d11c2c-f1e1-415a-a9d2-b0c263ae9be8@events.stage.louisville.edu
DTSTAMP:20260423T200853Z
DTSTART:20260302T150000Z
DTEND:20260302T220000Z
SUMMARY:The Louisville Cardinal: A Century of Student News and Views
CONTACT:Hannah Pryor\, 852.8789\, email:hannah.pryor@louisville.edu
DESCRIPTION:The Louisville Cardinal: A Century of Student News and Views c
 elebrates one hundred years of The Louisville Cardinal student newspaper
 . It features a sampling of headlines, editorials, sports, cartoons, and a
 rticles reporting on student life.
GEO:38.2169;-85.7605
LOCATION:Ekstrom Library
URL:https://events.stage.louisville.edu/events/louisville-cardinal-century-
 student-news-and-views/2026-03-02
END:VEVENT
END:VCALENDAR