BEGIN:VCALENDAR
VERSION:2.0
PRODID:-//Drupal//recurring_events_ical//2.0//EN
BEGIN:VEVENT
UID:34bdb911-34be-44d5-aa33-7f204a4661d8@events.stage.louisville.edu
DTSTAMP:20260423T183620Z
DTSTART:20261012T140000Z
DTEND:20261012T210000Z
SUMMARY:The Louisville Cardinal: A Century of Student News and Views
CONTACT:Hannah Pryor\, 852.8789\, email:hannah.pryor@louisville.edu
DESCRIPTION:The Louisville Cardinal: A Century of Student News and Views c
 elebrates one hundred years of The Louisville Cardinal student newspaper
 . It features a sampling of headlines, editorials, sports, cartoons, and a
 rticles reporting on student life.
GEO:38.2169;-85.7605
LOCATION:Ekstrom Library
URL:https://events.stage.louisville.edu/events/louisville-cardinal-century-
 student-news-and-views/2026-10-12
END:VEVENT
END:VCALENDAR