BEGIN:VCALENDAR
VERSION:2.0
PRODID:-//Drupal//recurring_events_ical//2.0//EN
BEGIN:VEVENT
UID:3cd69367-cfac-4294-9fb9-5ed7d4fa89f2@events.stage.louisville.edu
DTSTAMP:20260423T183620Z
DTSTART:20261110T150000Z
DTEND:20261110T220000Z
SUMMARY:The Louisville Cardinal: A Century of Student News and Views
CONTACT:Hannah Pryor\, 852.8789\, email:hannah.pryor@louisville.edu
DESCRIPTION:The Louisville Cardinal: A Century of Student News and Views c
 elebrates one hundred years of The Louisville Cardinal student newspaper
 . It features a sampling of headlines, editorials, sports, cartoons, and a
 rticles reporting on student life.
GEO:38.2169;-85.7605
LOCATION:Ekstrom Library
URL:https://events.stage.louisville.edu/events/louisville-cardinal-century-
 student-news-and-views/2026-11-10
END:VEVENT
END:VCALENDAR