BEGIN:VCALENDAR
VERSION:2.0
PRODID:-//Drupal//recurring_events_ical//2.0//EN
BEGIN:VEVENT
UID:ca67d1d4-f2a1-4a3f-9e63-9fbba2df7489@events.stage.louisville.edu
DTSTAMP:20260423T093718Z
DTSTART:20260528T220000Z
DTEND:20260529T010000Z
SUMMARY:Project Management - Practical Applications
CONTACT:Manuela Perri\, 502-852-4821\, email:manuela.perri@louisville.edu
DESCRIPTION:his is the 2nd course in the UofL Project Managment Certificate
  Program and focuses on the practical application and best practices of th
 e project management processes outlined in the Project Management Institut
 e's A Guide to the Project Management Body of Knowledge® (PMBOK).  For b
 eginners, we highly recommend you take "Fundamentals of Project Management
 " first, but is you are already familiar with Project Management principle
 s and implementing some Project Management concepts already, this is a goo
 d fit for you.\n\nThis course moves beyond the abstract theory of Project 
 Management and addresses real-world application in the workplace. In this 
 program, you will solve project management problems and practice the power
 ful tools that will be immediately useful in your work. Working with your 
 classmates , you will tackle a real project, generate solutions, execute y
 our plan, and get immediate feedback from your peers and instructors. Thes
 e hands-on learning experiences with real business challenges will challen
 ge you and equip you to apply what you learn at work.\n\nContact Manuela P
 erri at manuela.perri for UofL Fac, Staff, and Alumni discount codes.
URL:https://events.stage.louisville.edu/events/project-management-practical
 -applications/2026-05-28
END:VEVENT
END:VCALENDAR