BEGIN:VCALENDAR
VERSION:2.0
PRODID:-//Drupal//recurring_events_ical//2.0//EN
BEGIN:VEVENT
UID:b9ff2701-1d89-4854-980a-88bcf61a983a@events.stage.louisville.edu
DTSTAMP:20260423T075544Z
DTSTART:20260514T123000Z
DTEND:20260515T083000Z
SUMMARY:AI Essentials for Leaders:  A Strategic Roadmap to Understanding & 
 Implementation
CONTACT:Manuela Perri\, 502-852-4821\, email:manuela.perri@louisville.edu
DESCRIPTION:Unlock the transformative power of Artificial Intelligence (AI)
  with our exclusive executive education course. Designed for business lead
 ers, this course offers an in-depth understanding of AI fundamentals, the 
 latest advancements, and strategic business applications to drive innovati
 on and efficiency in your organization.\n\n\n	Context and history\n	AI Fou
 ndations\n	General-purpose AI models\n	Tools lab\n	Risk, privacy, and gove
 rnance\n	Anatomy of an AI model\n	AI agents and agentic AI\n	From use case
  to road map - Identifying opportunities, best practices, challenges, and 
 a look at what's next\n\n\nIncludes interactive learning sessions, course 
 materirals, continental breakfast and lunch, parking, and official UofL Ce
 rtificate of Completion.
URL:https://events.stage.louisville.edu/events/ai-essentials-leaders-strate
 gic-roadmap-understanding-implementation/2026-05-14
END:VEVENT
END:VCALENDAR