BEGIN:VCALENDAR
VERSION:2.0
PRODID:-//Drupal//recurring_events_ical//2.0//EN
BEGIN:VEVENT
UID:809502d3-ed6b-4442-ad46-261cc311d79f@events.stage.louisville.edu
DTSTAMP:20260423T142306Z
DTSTART:20260307T120000Z
DTEND:20260307T211500Z
SUMMARY:Annual New Frontiers, Clinical Dilemmas, and Decision Making in Car
 diovascular Medicine and Surgery
CONTACT:Maggie Braenovich\, 304-610-4832\, email:maggie.braenovich@uoflheal
 th.org
DESCRIPTION:Experts in Interventional Cardiology, Cardiothoracic surgery, C
 ardiac Anesthesia, Heart Failure, Cardiac Imaging, Cardiodiabetology and E
 lectrophysiology will provide didactics and high yield discussions on upda
 tes and new innovations in imaging and management of coronary artery disea
 se, structural heart disease, innovations in lung transplant, cardiogenic 
 shock, cell-based therapies for heart failure and Artificial Intelligence 
 in echocardiography, and more. Panel discussions with Q & A will be held a
 fter each session to answer questions to update community cardiologists an
 d anesthesiologists, residents, fellows, critical care NP, and APRNs.\n\nA
 genda\n\n7:00 a.m. – 7:30 a.m. Registration and Breakfast\n\n7:30 a.m. 
 - 7:40 a.m. Welcome - Dr. Aneeta Bhatia \n\nContemporary Innovations in
  Coronary Heart Disease, Moderator: Dr. Aneeta Bhatia\n\n7:40 a.m. - 8:03
  a.m. Contemporary strategies for non-invasive revascularization in Coron
 ary Artery Disease - Dr. Ibrahim Fahsah\n\n8:05 a.m. – 8:23 a.m. Conte
 mporary strategies for surgical revascularization in Coronary Artery Disea
 se - Dr. Siddarth Pawha\n\n8:25 a.m. - 8:47 a.m.Cardiodiabetology "Pharma
 ceutical strategies for reducing Coronary Artery Disease in Diabetics" - 
 Dr. Krishnaswamy\n\n8:50 a.m. - 9:00 a.m. Q&A\n\n9:00  a.m. - 9:15 a.m.
  Break, Explore Exhibitors\n\nWhat's New in Structural Heart and Cardiac 
 Imaging, Moderator: Dr. Marcus Stoddard\n\n9:15 a.m. - 9:37 a.m. Transcat
 heter Mitral Valve Interventions for Mitral Valve Disease - Dr. Faraaz Ra
 hman & Dr. Marcus Stoddard\n\n9:40 a.m. - 10:02 a.m. Transcatheter edge-
 to-edge tricuspid valve repair (TTVR) for treatment of Tricuspid Regurgita
 tion - Dr. Ravi Sharma\n\n10:05 a.m.-10:27 a.m. Advances and Innovations
  in Cardiac Imaging - Dr. Vrinda Sardana\n\n10:30 a.m.-10:52 a.m. Periop
 erative Echocardiography in Watchman Left Atrial Appendate Closure - Dr. 
 Marcus Stoddard\n\n10:55 a.m. - 11:17 a.m. Robotic Electrophysiology - D
 r. Jeffrey Stidam\n\n11:20 a.m. - 11:47 a.m. Perioperative Echocardiograp
 hy and Artificial Intelligence in Transcatheter Repair of the Mitral and T
 ricuspid Valves - Dr. Kiran Belani\n\n11:50 a.m.- 12:00 p.m. Q&A, Explor
 e Exhibitors\n\n12:00 p.m. - 12:30 p.m. Lunch\n\nNew Strategies in Advanc
 ed Heart Failure, Moderator: Dr. Aneeta Bhatia\n\n12:30 p.m. - 12:52 p.m.
  Pulmonary Hypertension and Right Heart Failure - Dr. Patrisha Shelley &
  Dr. Aneeta Bhatia\n\n12:55 p.m. - 1:12 p.m. Cell Therapies for Heart Fa
 ilure - Dr. Roberto Bolli\n\n1:15 p.m. - 1:37 p.m. Novel Devices in mana
 gement of Advanced Heart Failure - Dr. Sonali Arora\n\n1:40 p.m. -2:02 p.
 m. Updates on Cardiogenic Shock - Dr. Rohan Samson\n\n2:05 p.m. - 2:27 p
 .m. Updates in Lung Transplant and ex vivo lung perfusion (EVLP) for margi
 nal donor lungs - Dr. Matthew Fox\n\n2:30 p.m. - 2:50 p.m. Q&A\n\nInnova
 tive Interventional Cardiology and Womens' Heart Health, Moderator: Dr. Am
 ir Piracha\n\n2:50 p.m. - 3:12 p.m. The latest and Greatest Updates in In
 terventional Cardiology - Dr. Yuvraj Chowdhury & Dr. Amir Piracha\n\n3:1
 5 p.m. - 3:37 p.m. Renal Denervation - Dr. Prafull Raheja\n\n3:40 p.m. -
  4:02 p.m. Pulmonary Embolism , multidisciplinary Pulmonary Embolism Resp
 onse Teams (PERT) - Dr. Amir Piracha\n\n4:05 p.m. - 4:15 p.m. Q&A / Wrap
 -up\n\n \n\nContinuing Education Credit\n\nThis activity has been planned
  and implemented in accordance with the accreditation requirements and pol
 icies of the Accreditation Council for Continuing Medical Education (ACCME
 ). The University of Louisville is accredited by the ACCME to provide cont
 inuing medical education for physicians.\n\nPhysician Credit\nThe Universi
 ty of Louisville Continuing Medical Education office designates this live 
 activity for a maximum of 6 AMA PRA Category 1 Credits™. Physicians sh
 ould claim only the credit commensurate with the extent of their participa
 tion in the activity.\n \n\nNursing Credit\nThis program has been approve
 d by the Kentucky Board of Nursing for 7.2 continuing education credits th
 rough University of Louisville Hospital, provider number 4-0068-12-26-1467
 . The Kentucky Board of Nursing approval of an individual nursing educatio
 n provider does not constitute endorsement of program content. Completion 
 criteria to obtain CE's: Attend entire session and complete the evaluation
 .\n\n \n\nSpecial Services\nAll individuals are encouraged to participate
 . To request disability arrangements, please contact Maggie Braenovich at
  least 14 days prior to the date of this program. Office of Professional &
  Educational Development fully complies with the legal requirements of the
  ADA and the rules and regulations thereof.\n\nRegistration Cost\nUofL Phy
 sicians/Nurses/Students/Residents/Fellows: Free \n\nOutside Physicians: $
 50.00\n\nOutside Nurses: $40.00\n\nNon-Physician UofL Faculty: $50.00\n\nA
 ll Other Attendees: $40.00\n\nRegister for the Conference\n\nRegister as a
 n Exhibitor
URL:https://events.stage.louisville.edu/events/annual-new-frontiers-clinica
 l-dilemmas-and-decision-making-cardiovascular-medicine-and/2026
END:VEVENT
END:VCALENDAR