BEGIN:VCALENDAR
VERSION:2.0
PRODID:-//Drupal//recurring_events_ical//2.0//EN
BEGIN:VEVENT
UID:e5b21a70-cf85-47b5-8cf9-9d461713b97b@events.stage.louisville.edu
DTSTAMP:20260423T111447Z
DTSTART:20260515T160000Z
DTEND:20260515T220000Z
SUMMARY:Dermatology Spring Meeting
CONTACT:Dr. Jeffrey Callen\, 502-583-1749\, email:jeffrey.callen@louisville
 .edu
DESCRIPTION:This year the focus of our course is on Pediatric Dermatology, 
 including genodermatoses. The meeting will begin with patient viewing focu
 sing on pediatric patients and patients with inherited skin diseases [some
  of the presentations will likely be posters when the live patients are no
 t able to attend in person].  After a short break, we will begin with a l
 ecture by our Visiting Professor, Dr. Julie Schaffer. \n\nAgenda\n\n12:00 
 p.m. - 1:00 p.m. Registration, Lunch and Exhibits\n\n1:00 p.m. - 2:00 p.m.
  Patient Viewing \n\n2:00 p.m. -2:15 p.m. Break\n\n2:15 p.m. - 3:15 p.m.
  Lecture: Diseases of the Skin in Children - Dr. Julie V. Schaffer\n\n3:
 15 p.m. - 4:30 p.m. Case Studies - Dr. Jeffrey P. Callen/Moderator & Dr.
  Julie V. Schaffer/Commenter\n\n4:30 p.m. - 5:30 p.m. Presentations of "C
 ase of the Year" - Dermatology Residents\n\n5:30 p.m. - 6:00 p.m. Q&A / 
 Wrap-up\n\n \n\nContinuing Education Credit\n\nThis activity has been pla
 nned and implemented in accordance with the accreditation requirements and
  policies of the Accreditation Council for Continuing Medical Education (A
 CCME). The University of Louisville is accredited by the ACCME to provide 
 continuing medical education for physicians.\n\nPhysician Credit\nThe Univ
 ersity of Louisville Continuing Medical Education office designates this l
 ive activity for a maximum of 4.5 AMA PRA Category 1 Credits™. Physici
 ans should claim only the credit commensurate with the extent of their par
 ticipation in the activity.\n \n\nNursing Credit\nThis program has been a
 pproved by the Kentucky Board of Nursing for 5.6 continuing education cred
 its through University of Louisville Hospital, provider number 4-0068-12-2
 6-1467. The Kentucky Board of Nursing approval of an individual nursing ed
 ucation provider does not constitute endorsement of program content. Compl
 etion criteria to obtain CE's: Attend entire session and complete the eval
 uation.\n\n \n\nSpecial Services\nAll individuals are encouraged to parti
 cipate. To request disability arrangements, please contact Dr. Jeffrey Ca
 llen at least 14 days prior to the date of this program. Office of Profes
 sional & Educational Development fully complies with the legal requirement
 s of the ADA and the rules and regulations thereof.\n\nRegistration Cost: 
 $95.00\n\nRegister for the Conference\n\nRegister as an Exhibitor
URL:https://events.stage.louisville.edu/events/dermatology-spring-meeting/2
 026-05-15-0
END:VEVENT
END:VCALENDAR