BEGIN:VCALENDAR
VERSION:2.0
PRODID:-//Drupal//recurring_events_ical//2.0//EN
BEGIN:VEVENT
UID:d26dcb9b-704b-4807-8a23-373915643b8c@events.stage.louisville.edu
DTSTAMP:20260423T094157Z
DTSTART:20260424T160000Z
DTEND:20260424T170000Z
SUMMARY:Sustainability Roundtable: Opportunities and Challenges in Urban Fa
 rming
CONTACT:May Zhang\, 502-338-7956\, email:sumei.zhang@louisville.edu
DESCRIPTION:Join the Sustainability Roundtable for Green Within Gray: Oppo
 rtunities and Challenges in Urban Farming.\n\nDiscussants will include: \
 n•    Joe Trigg, Co-founder of My Farm Exchange\n•    Justin Mog, 
 Assistant to the Provost for Sustainability Initiatives, University of Lou
 isville\n•    Nicole Phillips, Urban Agriculture Program Coordinator, 
 Louisville Metro Government\n\nJoin Microsoft Teams meeting.  
URL:https://events.stage.louisville.edu/events/sustainability-roundtable-op
 portunities-and-challenges-urban-farming/2026-04-24
END:VEVENT
END:VCALENDAR