BEGIN:VCALENDAR
VERSION:2.0
PRODID:-//Drupal//recurring_events_ical//2.0//EN
BEGIN:VEVENT
UID:66bae6f7-4387-4463-a5b7-0ced8b714e44@events.stage.louisville.edu
DTSTAMP:20260423T122308Z
DTSTART:20261028T190000Z
DTEND:20261028T194500Z
SUMMARY:Ask the Grantwriting Expert Q&A
CONTACT:Cecilia Peredo\, 502-852-2496\, email:resdevel@louisville.edu
DESCRIPTION:Do you have questions about your NIH grant application? Did you
  learn something in our grantwriting courses about which you’d like more
  information?\n\nNow’s your chance to get 1:1 feedback!\n\nEvery other W
 ednesday at 3pm ET, you can join Meg Bouvier PhD live. Come and go from th
 e call whenever you’d like, ask questions, and learn as Meg answers othe
 r people’s questions.\n\nThese sessions often include mini-tutorials on 
 grantwriting topics of interest. In addition, on select weeks, she will in
 vite a colleague to share their expertise.\n\nFor 45 minutes, you can quiz
  Meg about your biggest challenges and questions. On select weeks, she wil
 l invite a grantwriting colleagues to join her in fielding your toughest q
 uestions.
URL:https://events.stage.louisville.edu/events/ask-grantwriting-expert-qa/2
 026-10-28
END:VEVENT
END:VCALENDAR