BEGIN:VCALENDAR
VERSION:2.0
PRODID:-//Drupal//recurring_events_ical//2.0//EN
BEGIN:VEVENT
UID:0134a63b-f49d-4f48-af22-f93a2a9550ae@events.stage.louisville.edu
DTSTAMP:20260423T111447Z
DTSTART:20260501T040000Z
DTEND:20260501T040000Z
SUMMARY:Digital Badge of the Month Giveaway
CONTACT:Elena Fortunato-Wright\, 5028525643\, email:e0fort04@louisville.edu
DESCRIPTION:Build in-demand digital skills and win prizes through the Digit
 al Transformation Center’s monthly giveaway. Complete a themed digital b
 adge, submit proof of completion, and be entered to win. Open to all UofL 
 students, faculty, and staff. Multiple entries allowed; winners selected m
 onthly. Learn more and enter online. Learn more on the DTC website
URL:https://events.stage.louisville.edu/events/digital-badge-month-giveaway
 /2026-05-01
END:VEVENT
END:VCALENDAR