BEGIN:VCALENDAR
VERSION:2.0
PRODID:-//Drupal//recurring_events_ical//2.0//EN
BEGIN:VEVENT
UID:10166c4a-1e24-45ee-a262-31e3224d0151@events.stage.louisville.edu
DTSTAMP:20260423T135624Z
DTSTART:20260409T130000Z
DTEND:20260409T140000Z
SUMMARY:M&I Seminar Series Presents PhD Candidate Christopher Farrell
CONTACT:Blythe Senn\, 502-852-6208\, email:blythe.senn@louisville.edu
DESCRIPTION:The Department of Microbiology and Immunology Seminar Series P
 resents a Research Seminar:\n\n“Glucose-containing carbohydrates modulat
 e Group B Streptococcus biofilm formation and adherence"\n\nBy:\n\nChris
 topher Farrell\n\nPhD Candidate\n\nin the lab of Dr. Ryan Doster
GEO:38.2490;-85.7422
LOCATION:Kosair for Kids Clinical & Translational Research Building (K4KCTR
 B)
URL:https://events.stage.louisville.edu/events/mi-seminar-series-presents-p
 hd-candidate-christopher-farrell-0/2026-04-09
END:VEVENT
END:VCALENDAR