BEGIN:VCALENDAR
VERSION:2.0
PRODID:-//Drupal//recurring_events_ical//2.0//EN
BEGIN:VEVENT
UID:35ee4c02-d512-4bc2-90e6-6e3e7982162d@events.stage.louisville.edu
DTSTAMP:20260423T095830Z
DTSTART:20260424T123000Z
DTEND:20260424T133000Z
SUMMARY:College of Business AI Forum - "Start Somewhere:  A Practical Bluep
 rint for AI Adoption in the Enterprise
CONTACT:Manuela Perri\, 502-852-4821\, email:manuela.perri@louisville.edu
DESCRIPTION:Most organizations know AI is important - but few have built th
 e structure to actually act on it. This talk cuts through the hype and get
 s practical. Sarah Bhatia, Director of AI Product Innovation at Slingshot,
  and Matthew Griffith, Director of Business and Digital Transformation at 
 Louisville Water Company, bring complementary vantage points to a conversa
 tion that is equal parts industry insight and real-world experience. Toget
 her, they explore what a true innovation relationship between an organizat
 ion and a technology partner can look like - and how it can close the gap 
 between opportunity and execution without requiring a massive budget, a ne
 w team, or a big platform bet. If you're a business leader trying to figur
 e out where to start, this talk is built for you.
GEO:38.2190;-85.7601
LOCATION:Harry Frazier Hall - College of Business
URL:https://events.stage.louisville.edu/events/college-business-ai-forum-st
 art-somewhere-practical-blueprint-ai-adoption-enterprise/2026-04
END:VEVENT
END:VCALENDAR