BEGIN:VCALENDAR
VERSION:2.0
PRODID:-//Drupal//recurring_events_ical//2.0//EN
BEGIN:VEVENT
UID:0b3c66f5-eaff-4431-9d16-119a8402e5dd@events.stage.louisville.edu
DTSTAMP:20260423T094114Z
DTSTART:20260424T140000Z
DTEND:20260424T160000Z
SUMMARY:Graphic Design Portfolio Day 2026
CONTACT:Sheri Squires\, 5025823605\, email:sheri.squires@louisville.edu
DESCRIPTION:The Graphic Design program of the Hite Institute of Art + Desig
 n annual capstone event with Seniors' BFA projects on display.
GEO:38.2178;-85.7556
LOCATION:Student Activities Center (SAC)
URL:https://events.stage.louisville.edu/events/graphic-design-portfolio-day
 -2026/2026-04-24
END:VEVENT
END:VCALENDAR