BEGIN:VCALENDAR
VERSION:2.0
PRODID:-//Drupal//recurring_events_ical//2.0//EN
BEGIN:VEVENT
UID:08326032-6ea7-4a7e-870e-5abdb904dc0c@events.stage.louisville.edu
DTSTAMP:20260423T111448Z
DTSTART:20260506T140000Z
DTEND:20260506T151500Z
SUMMARY:Health Sciences Campus (HSC) Tour Sign-up
CONTACT:Bonnie Dean\, 502-550-3928\, email:bonnie.dean@louisville.edu
DESCRIPTION:Join us and discover all the new and exciting things that the H
 ealth Sciences Campus has to offer!  \n\nSpace is limited so sign up earl
 y!  Tours begin at 10:00 a.m. (unless otherwise noted) in the Abell Admin
 istration Center, 1st floor foyer, 323 East Chestnut Street. Enter the bui
 lding on the east or west side by using your UofL I.D. or call Bonnie at 5
 50-3928 for access. \n\nThe tour will take approximately 1 hour and 15 mi
 nutes depending on the size of the group. If you will not be able to atte
 nd, please call or text Bonnie Dean at 502-550-3928.\n\nThere is metered p
 arking on the Floyd Street and Chestnut Street sides of the Abell Administ
 ration Center. \n\nFacilitated by: Bonnie Dean, Coordinator, Office of Co
 mmunications and Marketing\n\nRegister Here!
GEO:38.2484;-85.7484
LOCATION:Abell Administration Center
URL:https://events.stage.louisville.edu/events/health-sciences-campus-hsc-t
 our-sign-9/2026-05-06
END:VEVENT
END:VCALENDAR