BEGIN:VCALENDAR
VERSION:2.0
PRODID:-//Drupal//recurring_events_ical//2.0//EN
BEGIN:VEVENT
UID:920f10b7-5935-41cb-aebf-2f9cd91576bd@events.stage.louisville.edu
DTSTAMP:20260423T170803Z
DTSTART:20260122T173000Z
DTEND:20260122T183000Z
SUMMARY:Spring Garden Gatherings 2026
CONTACT:Jacob Brown\, 606-375-5565\, email:jacob.brown.3@louisville.edu
DESCRIPTION:Mondays, 4pm at the Urban & Public Affairs Garden (426 W. Bloom
  St., behind Bettie Johnson Hall)\n\nThursdays, 12:30pm at the Garden Com
 mons (northeast of the Baptist Center)\n\nUofL’s organic campus gardens
  are great places to relax, reconnect, learn, and savor the sweet taste of
  sustainability!\n\nStudents, faculty, staff, and the public are all welco
 me to come experience the thrill of turning tiny seeds into an abundance o
 f hyper-local veggies, herbs, fruit & flowers.\n\nStop by anytime to sampl
 e the goodness and help us keep things watered and weeded.\n\nWe will gath
 er weekly at both of our campus food gardens throughout the spring (Jan. 2
 2 - May 28) to plant, weed, water & harvest. Tools and gloves provided.\n\
 nMonthly hands-on Garden Workshops will also be offered at these times.  
 \n\nEveryone who comes is welcome to share in the harvest!\n\nConnect with
  us and get all the details on Facebook or Instagram.\n\nFacebook Event.
GEO:38.2178;-85.7577
LOCATION:Baptist Campus Center
URL:https://events.stage.louisville.edu/events/spring-garden-gatherings-202
 6/2026-01-22
END:VEVENT
BEGIN:VEVENT
UID:ae61d6c7-9be5-43ce-b6db-73a088dc190e@events.stage.louisville.edu
DTSTAMP:20260423T170804Z
DTSTART:20260129T173000Z
DTEND:20260129T183000Z
SUMMARY:Spring Garden Gatherings 2026
CONTACT:Jacob Brown\, 606-375-5565\, email:jacob.brown.3@louisville.edu
DESCRIPTION:Mondays, 4pm at the Urban & Public Affairs Garden (426 W. Bloom
  St., behind Bettie Johnson Hall)\n\nThursdays, 12:30pm at the Garden Com
 mons (northeast of the Baptist Center)\n\nUofL’s organic campus gardens
  are great places to relax, reconnect, learn, and savor the sweet taste of
  sustainability!\n\nStudents, faculty, staff, and the public are all welco
 me to come experience the thrill of turning tiny seeds into an abundance o
 f hyper-local veggies, herbs, fruit & flowers.\n\nStop by anytime to sampl
 e the goodness and help us keep things watered and weeded.\n\nWe will gath
 er weekly at both of our campus food gardens throughout the spring (Jan. 2
 2 - May 28) to plant, weed, water & harvest. Tools and gloves provided.\n\
 nMonthly hands-on Garden Workshops will also be offered at these times.  
 \n\nEveryone who comes is welcome to share in the harvest!\n\nConnect with
  us and get all the details on Facebook or Instagram.\n\nFacebook Event.
GEO:38.2178;-85.7577
LOCATION:Baptist Campus Center
URL:https://events.stage.louisville.edu/events/spring-garden-gatherings-202
 6/2026-01-29
END:VEVENT
BEGIN:VEVENT
UID:6ad82650-9823-4e81-afe8-272905350b55@events.stage.louisville.edu
DTSTAMP:20260422T161635Z
DTSTART:20260205T173000Z
DTEND:20260205T183000Z
SUMMARY:Spring Garden Gatherings 2026
CONTACT:Jacob Brown\, 606-375-5565\, email:jacob.brown.3@louisville.edu
DESCRIPTION:Mondays, 4pm at the Urban & Public Affairs Garden (426 W. Bloom
  St., behind Bettie Johnson Hall)\n\nThursdays, 12:30pm at the Garden Com
 mons (northeast of the Baptist Center)\n\nUofL’s organic campus gardens
  are great places to relax, reconnect, learn, and savor the sweet taste of
  sustainability!\n\nStudents, faculty, staff, and the public are all welco
 me to come experience the thrill of turning tiny seeds into an abundance o
 f hyper-local veggies, herbs, fruit & flowers.\n\nStop by anytime to sampl
 e the goodness and help us keep things watered and weeded.\n\nWe will gath
 er weekly at both of our campus food gardens throughout the spring (Jan. 2
 2 - May 28) to plant, weed, water & harvest. Tools and gloves provided.\n\
 nMonthly hands-on Garden Workshops will also be offered at these times.  
 \n\nEveryone who comes is welcome to share in the harvest!\n\nConnect with
  us and get all the details on Facebook or Instagram.\n\nFacebook Event.
GEO:38.2178;-85.7577
LOCATION:Baptist Campus Center
URL:https://events.stage.louisville.edu/events/spring-garden-gatherings-202
 6/2026-02-05
END:VEVENT
BEGIN:VEVENT
UID:50ed76e8-8de4-4810-8980-9ea40613003b@events.stage.louisville.edu
DTSTAMP:20260422T161636Z
DTSTART:20260212T173000Z
DTEND:20260212T183000Z
SUMMARY:Spring Garden Gatherings 2026
CONTACT:Jacob Brown\, 606-375-5565\, email:jacob.brown.3@louisville.edu
DESCRIPTION:Mondays, 4pm at the Urban & Public Affairs Garden (426 W. Bloom
  St., behind Bettie Johnson Hall)\n\nThursdays, 12:30pm at the Garden Com
 mons (northeast of the Baptist Center)\n\nUofL’s organic campus gardens
  are great places to relax, reconnect, learn, and savor the sweet taste of
  sustainability!\n\nStudents, faculty, staff, and the public are all welco
 me to come experience the thrill of turning tiny seeds into an abundance o
 f hyper-local veggies, herbs, fruit & flowers.\n\nStop by anytime to sampl
 e the goodness and help us keep things watered and weeded.\n\nWe will gath
 er weekly at both of our campus food gardens throughout the spring (Jan. 2
 2 - May 28) to plant, weed, water & harvest. Tools and gloves provided.\n\
 nMonthly hands-on Garden Workshops will also be offered at these times.  
 \n\nEveryone who comes is welcome to share in the harvest!\n\nConnect with
  us and get all the details on Facebook or Instagram.\n\nFacebook Event.
GEO:38.2178;-85.7577
LOCATION:Baptist Campus Center
URL:https://events.stage.louisville.edu/events/spring-garden-gatherings-202
 6/2026-02-12
END:VEVENT
BEGIN:VEVENT
UID:b65543c7-5d07-4259-b27e-36e8e8ef2cb2@events.stage.louisville.edu
DTSTAMP:20260422T161637Z
DTSTART:20260219T173000Z
DTEND:20260219T183000Z
SUMMARY:Spring Garden Gatherings 2026
CONTACT:Jacob Brown\, 606-375-5565\, email:jacob.brown.3@louisville.edu
DESCRIPTION:Mondays, 4pm at the Urban & Public Affairs Garden (426 W. Bloom
  St., behind Bettie Johnson Hall)\n\nThursdays, 12:30pm at the Garden Com
 mons (northeast of the Baptist Center)\n\nUofL’s organic campus gardens
  are great places to relax, reconnect, learn, and savor the sweet taste of
  sustainability!\n\nStudents, faculty, staff, and the public are all welco
 me to come experience the thrill of turning tiny seeds into an abundance o
 f hyper-local veggies, herbs, fruit & flowers.\n\nStop by anytime to sampl
 e the goodness and help us keep things watered and weeded.\n\nWe will gath
 er weekly at both of our campus food gardens throughout the spring (Jan. 2
 2 - May 28) to plant, weed, water & harvest. Tools and gloves provided.\n\
 nMonthly hands-on Garden Workshops will also be offered at these times.  
 \n\nEveryone who comes is welcome to share in the harvest!\n\nConnect with
  us and get all the details on Facebook or Instagram.\n\nFacebook Event.
GEO:38.2178;-85.7577
LOCATION:Baptist Campus Center
URL:https://events.stage.louisville.edu/events/spring-garden-gatherings-202
 6/2026-02-19
END:VEVENT
BEGIN:VEVENT
UID:22a83b46-0add-4c31-9606-591a81bdcf8b@events.stage.louisville.edu
DTSTAMP:20260422T161639Z
DTSTART:20260226T173000Z
DTEND:20260226T183000Z
SUMMARY:Spring Garden Gatherings 2026
CONTACT:Jacob Brown\, 606-375-5565\, email:jacob.brown.3@louisville.edu
DESCRIPTION:Mondays, 4pm at the Urban & Public Affairs Garden (426 W. Bloom
  St., behind Bettie Johnson Hall)\n\nThursdays, 12:30pm at the Garden Com
 mons (northeast of the Baptist Center)\n\nUofL’s organic campus gardens
  are great places to relax, reconnect, learn, and savor the sweet taste of
  sustainability!\n\nStudents, faculty, staff, and the public are all welco
 me to come experience the thrill of turning tiny seeds into an abundance o
 f hyper-local veggies, herbs, fruit & flowers.\n\nStop by anytime to sampl
 e the goodness and help us keep things watered and weeded.\n\nWe will gath
 er weekly at both of our campus food gardens throughout the spring (Jan. 2
 2 - May 28) to plant, weed, water & harvest. Tools and gloves provided.\n\
 nMonthly hands-on Garden Workshops will also be offered at these times.  
 \n\nEveryone who comes is welcome to share in the harvest!\n\nConnect with
  us and get all the details on Facebook or Instagram.\n\nFacebook Event.
GEO:38.2178;-85.7577
LOCATION:Baptist Campus Center
URL:https://events.stage.louisville.edu/events/spring-garden-gatherings-202
 6/2026-02-26
END:VEVENT
BEGIN:VEVENT
UID:46fe8525-9162-4039-a016-c65e01521fe0@events.stage.louisville.edu
DTSTAMP:20260422T161640Z
DTSTART:20260305T173000Z
DTEND:20260305T183000Z
SUMMARY:Spring Garden Gatherings 2026
CONTACT:Jacob Brown\, 606-375-5565\, email:jacob.brown.3@louisville.edu
DESCRIPTION:Mondays, 4pm at the Urban & Public Affairs Garden (426 W. Bloom
  St., behind Bettie Johnson Hall)\n\nThursdays, 12:30pm at the Garden Com
 mons (northeast of the Baptist Center)\n\nUofL’s organic campus gardens
  are great places to relax, reconnect, learn, and savor the sweet taste of
  sustainability!\n\nStudents, faculty, staff, and the public are all welco
 me to come experience the thrill of turning tiny seeds into an abundance o
 f hyper-local veggies, herbs, fruit & flowers.\n\nStop by anytime to sampl
 e the goodness and help us keep things watered and weeded.\n\nWe will gath
 er weekly at both of our campus food gardens throughout the spring (Jan. 2
 2 - May 28) to plant, weed, water & harvest. Tools and gloves provided.\n\
 nMonthly hands-on Garden Workshops will also be offered at these times.  
 \n\nEveryone who comes is welcome to share in the harvest!\n\nConnect with
  us and get all the details on Facebook or Instagram.\n\nFacebook Event.
GEO:38.2178;-85.7577
LOCATION:Baptist Campus Center
URL:https://events.stage.louisville.edu/events/spring-garden-gatherings-202
 6/2026-03-05
END:VEVENT
BEGIN:VEVENT
UID:ab3e7eab-439e-4dd5-b3a6-5406b3388f54@events.stage.louisville.edu
DTSTAMP:20260422T161642Z
DTSTART:20260319T163000Z
DTEND:20260319T173000Z
SUMMARY:Spring Garden Gatherings 2026
CONTACT:Jacob Brown\, 606-375-5565\, email:jacob.brown.3@louisville.edu
DESCRIPTION:Mondays, 4pm at the Urban & Public Affairs Garden (426 W. Bloom
  St., behind Bettie Johnson Hall)\n\nThursdays, 12:30pm at the Garden Com
 mons (northeast of the Baptist Center)\n\nUofL’s organic campus gardens
  are great places to relax, reconnect, learn, and savor the sweet taste of
  sustainability!\n\nStudents, faculty, staff, and the public are all welco
 me to come experience the thrill of turning tiny seeds into an abundance o
 f hyper-local veggies, herbs, fruit & flowers.\n\nStop by anytime to sampl
 e the goodness and help us keep things watered and weeded.\n\nWe will gath
 er weekly at both of our campus food gardens throughout the spring (Jan. 2
 2 - May 28) to plant, weed, water & harvest. Tools and gloves provided.\n\
 nMonthly hands-on Garden Workshops will also be offered at these times.  
 \n\nEveryone who comes is welcome to share in the harvest!\n\nConnect with
  us and get all the details on Facebook or Instagram.\n\nFacebook Event.
GEO:38.2178;-85.7577
LOCATION:Baptist Campus Center
URL:https://events.stage.louisville.edu/events/spring-garden-gatherings-202
 6/2026-03-19
END:VEVENT
BEGIN:VEVENT
UID:ef397cfe-fff1-4227-a27a-478cd10793c1@events.stage.louisville.edu
DTSTAMP:20260422T161643Z
DTSTART:20260326T163000Z
DTEND:20260326T173000Z
SUMMARY:Spring Garden Gatherings 2026
CONTACT:Jacob Brown\, 606-375-5565\, email:jacob.brown.3@louisville.edu
DESCRIPTION:Mondays, 4pm at the Urban & Public Affairs Garden (426 W. Bloom
  St., behind Bettie Johnson Hall)\n\nThursdays, 12:30pm at the Garden Com
 mons (northeast of the Baptist Center)\n\nUofL’s organic campus gardens
  are great places to relax, reconnect, learn, and savor the sweet taste of
  sustainability!\n\nStudents, faculty, staff, and the public are all welco
 me to come experience the thrill of turning tiny seeds into an abundance o
 f hyper-local veggies, herbs, fruit & flowers.\n\nStop by anytime to sampl
 e the goodness and help us keep things watered and weeded.\n\nWe will gath
 er weekly at both of our campus food gardens throughout the spring (Jan. 2
 2 - May 28) to plant, weed, water & harvest. Tools and gloves provided.\n\
 nMonthly hands-on Garden Workshops will also be offered at these times.  
 \n\nEveryone who comes is welcome to share in the harvest!\n\nConnect with
  us and get all the details on Facebook or Instagram.\n\nFacebook Event.
GEO:38.2178;-85.7577
LOCATION:Baptist Campus Center
URL:https://events.stage.louisville.edu/events/spring-garden-gatherings-202
 6/2026-03-26
END:VEVENT
BEGIN:VEVENT
UID:af34059a-5d85-4e42-83fa-b8a36211a2ce@events.stage.louisville.edu
DTSTAMP:20260422T161644Z
DTSTART:20260402T163000Z
DTEND:20260402T173000Z
SUMMARY:Spring Garden Gatherings 2026
CONTACT:Jacob Brown\, 606-375-5565\, email:jacob.brown.3@louisville.edu
DESCRIPTION:Mondays, 4pm at the Urban & Public Affairs Garden (426 W. Bloom
  St., behind Bettie Johnson Hall)\n\nThursdays, 12:30pm at the Garden Com
 mons (northeast of the Baptist Center)\n\nUofL’s organic campus gardens
  are great places to relax, reconnect, learn, and savor the sweet taste of
  sustainability!\n\nStudents, faculty, staff, and the public are all welco
 me to come experience the thrill of turning tiny seeds into an abundance o
 f hyper-local veggies, herbs, fruit & flowers.\n\nStop by anytime to sampl
 e the goodness and help us keep things watered and weeded.\n\nWe will gath
 er weekly at both of our campus food gardens throughout the spring (Jan. 2
 2 - May 28) to plant, weed, water & harvest. Tools and gloves provided.\n\
 nMonthly hands-on Garden Workshops will also be offered at these times.  
 \n\nEveryone who comes is welcome to share in the harvest!\n\nConnect with
  us and get all the details on Facebook or Instagram.\n\nFacebook Event.
GEO:38.2178;-85.7577
LOCATION:Baptist Campus Center
URL:https://events.stage.louisville.edu/events/spring-garden-gatherings-202
 6/2026-04-02
END:VEVENT
BEGIN:VEVENT
UID:b8b0645a-cad7-48ab-9e09-f926a63aea75@events.stage.louisville.edu
DTSTAMP:20260422T161645Z
DTSTART:20260409T163000Z
DTEND:20260409T173000Z
SUMMARY:Spring Garden Gatherings 2026
CONTACT:Jacob Brown\, 606-375-5565\, email:jacob.brown.3@louisville.edu
DESCRIPTION:Mondays, 4pm at the Urban & Public Affairs Garden (426 W. Bloom
  St., behind Bettie Johnson Hall)\n\nThursdays, 12:30pm at the Garden Com
 mons (northeast of the Baptist Center)\n\nUofL’s organic campus gardens
  are great places to relax, reconnect, learn, and savor the sweet taste of
  sustainability!\n\nStudents, faculty, staff, and the public are all welco
 me to come experience the thrill of turning tiny seeds into an abundance o
 f hyper-local veggies, herbs, fruit & flowers.\n\nStop by anytime to sampl
 e the goodness and help us keep things watered and weeded.\n\nWe will gath
 er weekly at both of our campus food gardens throughout the spring (Jan. 2
 2 - May 28) to plant, weed, water & harvest. Tools and gloves provided.\n\
 nMonthly hands-on Garden Workshops will also be offered at these times.  
 \n\nEveryone who comes is welcome to share in the harvest!\n\nConnect with
  us and get all the details on Facebook or Instagram.\n\nFacebook Event.
GEO:38.2178;-85.7577
LOCATION:Baptist Campus Center
URL:https://events.stage.louisville.edu/events/spring-garden-gatherings-202
 6/2026-04-09
END:VEVENT
BEGIN:VEVENT
UID:8d50c64b-3d04-47c6-90aa-a5504744f356@events.stage.louisville.edu
DTSTAMP:20260422T161647Z
DTSTART:20260416T163000Z
DTEND:20260416T173000Z
SUMMARY:Spring Garden Gatherings 2026
CONTACT:Jacob Brown\, 606-375-5565\, email:jacob.brown.3@louisville.edu
DESCRIPTION:Mondays, 4pm at the Urban & Public Affairs Garden (426 W. Bloom
  St., behind Bettie Johnson Hall)\n\nThursdays, 12:30pm at the Garden Com
 mons (northeast of the Baptist Center)\n\nUofL’s organic campus gardens
  are great places to relax, reconnect, learn, and savor the sweet taste of
  sustainability!\n\nStudents, faculty, staff, and the public are all welco
 me to come experience the thrill of turning tiny seeds into an abundance o
 f hyper-local veggies, herbs, fruit & flowers.\n\nStop by anytime to sampl
 e the goodness and help us keep things watered and weeded.\n\nWe will gath
 er weekly at both of our campus food gardens throughout the spring (Jan. 2
 2 - May 28) to plant, weed, water & harvest. Tools and gloves provided.\n\
 nMonthly hands-on Garden Workshops will also be offered at these times.  
 \n\nEveryone who comes is welcome to share in the harvest!\n\nConnect with
  us and get all the details on Facebook or Instagram.\n\nFacebook Event.
GEO:38.2178;-85.7577
LOCATION:Baptist Campus Center
URL:https://events.stage.louisville.edu/events/spring-garden-gatherings-202
 6/2026-04-16
END:VEVENT
BEGIN:VEVENT
UID:fd0c3b11-7fa3-4d3e-8747-1b50e955f34d@events.stage.louisville.edu
DTSTAMP:20260423T094843Z
DTSTART:20260423T163000Z
DTEND:20260423T173000Z
SUMMARY:Spring Garden Gatherings 2026
CONTACT:Jacob Brown\, 606-375-5565\, email:jacob.brown.3@louisville.edu
DESCRIPTION:Mondays, 4pm at the Urban & Public Affairs Garden (426 W. Bloom
  St., behind Bettie Johnson Hall)\n\nThursdays, 12:30pm at the Garden Com
 mons (northeast of the Baptist Center)\n\nUofL’s organic campus gardens
  are great places to relax, reconnect, learn, and savor the sweet taste of
  sustainability!\n\nStudents, faculty, staff, and the public are all welco
 me to come experience the thrill of turning tiny seeds into an abundance o
 f hyper-local veggies, herbs, fruit & flowers.\n\nStop by anytime to sampl
 e the goodness and help us keep things watered and weeded.\n\nWe will gath
 er weekly at both of our campus food gardens throughout the spring (Jan. 2
 2 - May 28) to plant, weed, water & harvest. Tools and gloves provided.\n\
 nMonthly hands-on Garden Workshops will also be offered at these times.  
 \n\nEveryone who comes is welcome to share in the harvest!\n\nConnect with
  us and get all the details on Facebook or Instagram.\n\nFacebook Event.
GEO:38.2178;-85.7577
LOCATION:Baptist Campus Center
URL:https://events.stage.louisville.edu/events/spring-garden-gatherings-202
 6/2026-04-23
END:VEVENT
BEGIN:VEVENT
UID:36c5fd83-1b66-4e30-bce0-96f69d1ec1bd@events.stage.louisville.edu
DTSTAMP:20260423T095007Z
DTSTART:20260430T163000Z
DTEND:20260430T173000Z
SUMMARY:Spring Garden Gatherings 2026
CONTACT:Jacob Brown\, 606-375-5565\, email:jacob.brown.3@louisville.edu
DESCRIPTION:Mondays, 4pm at the Urban & Public Affairs Garden (426 W. Bloom
  St., behind Bettie Johnson Hall)\n\nThursdays, 12:30pm at the Garden Com
 mons (northeast of the Baptist Center)\n\nUofL’s organic campus gardens
  are great places to relax, reconnect, learn, and savor the sweet taste of
  sustainability!\n\nStudents, faculty, staff, and the public are all welco
 me to come experience the thrill of turning tiny seeds into an abundance o
 f hyper-local veggies, herbs, fruit & flowers.\n\nStop by anytime to sampl
 e the goodness and help us keep things watered and weeded.\n\nWe will gath
 er weekly at both of our campus food gardens throughout the spring (Jan. 2
 2 - May 28) to plant, weed, water & harvest. Tools and gloves provided.\n\
 nMonthly hands-on Garden Workshops will also be offered at these times.  
 \n\nEveryone who comes is welcome to share in the harvest!\n\nConnect with
  us and get all the details on Facebook or Instagram.\n\nFacebook Event.
GEO:38.2178;-85.7577
LOCATION:Baptist Campus Center
URL:https://events.stage.louisville.edu/events/spring-garden-gatherings-202
 6/2026-04-30
END:VEVENT
BEGIN:VEVENT
UID:896d1330-bdad-4fdf-b1e2-6c9fed7dce35@events.stage.louisville.edu
DTSTAMP:20260423T095112Z
DTSTART:20260507T163000Z
DTEND:20260507T173000Z
SUMMARY:Spring Garden Gatherings 2026
CONTACT:Jacob Brown\, 606-375-5565\, email:jacob.brown.3@louisville.edu
DESCRIPTION:Mondays, 4pm at the Urban & Public Affairs Garden (426 W. Bloom
  St., behind Bettie Johnson Hall)\n\nThursdays, 12:30pm at the Garden Com
 mons (northeast of the Baptist Center)\n\nUofL’s organic campus gardens
  are great places to relax, reconnect, learn, and savor the sweet taste of
  sustainability!\n\nStudents, faculty, staff, and the public are all welco
 me to come experience the thrill of turning tiny seeds into an abundance o
 f hyper-local veggies, herbs, fruit & flowers.\n\nStop by anytime to sampl
 e the goodness and help us keep things watered and weeded.\n\nWe will gath
 er weekly at both of our campus food gardens throughout the spring (Jan. 2
 2 - May 28) to plant, weed, water & harvest. Tools and gloves provided.\n\
 nMonthly hands-on Garden Workshops will also be offered at these times.  
 \n\nEveryone who comes is welcome to share in the harvest!\n\nConnect with
  us and get all the details on Facebook or Instagram.\n\nFacebook Event.
GEO:38.2178;-85.7577
LOCATION:Baptist Campus Center
URL:https://events.stage.louisville.edu/events/spring-garden-gatherings-202
 6/2026-05-07
END:VEVENT
BEGIN:VEVENT
UID:07c25588-35c0-439e-b0bf-358bf7062c8b@events.stage.louisville.edu
DTSTAMP:20260423T095202Z
DTSTART:20260514T163000Z
DTEND:20260514T173000Z
SUMMARY:Spring Garden Gatherings 2026
CONTACT:Jacob Brown\, 606-375-5565\, email:jacob.brown.3@louisville.edu
DESCRIPTION:Mondays, 4pm at the Urban & Public Affairs Garden (426 W. Bloom
  St., behind Bettie Johnson Hall)\n\nThursdays, 12:30pm at the Garden Com
 mons (northeast of the Baptist Center)\n\nUofL’s organic campus gardens
  are great places to relax, reconnect, learn, and savor the sweet taste of
  sustainability!\n\nStudents, faculty, staff, and the public are all welco
 me to come experience the thrill of turning tiny seeds into an abundance o
 f hyper-local veggies, herbs, fruit & flowers.\n\nStop by anytime to sampl
 e the goodness and help us keep things watered and weeded.\n\nWe will gath
 er weekly at both of our campus food gardens throughout the spring (Jan. 2
 2 - May 28) to plant, weed, water & harvest. Tools and gloves provided.\n\
 nMonthly hands-on Garden Workshops will also be offered at these times.  
 \n\nEveryone who comes is welcome to share in the harvest!\n\nConnect with
  us and get all the details on Facebook or Instagram.\n\nFacebook Event.
GEO:38.2178;-85.7577
LOCATION:Baptist Campus Center
URL:https://events.stage.louisville.edu/events/spring-garden-gatherings-202
 6/2026-05-14
END:VEVENT
BEGIN:VEVENT
UID:fb2f7424-3735-47ef-b7f4-e80cf8a8a2ae@events.stage.louisville.edu
DTSTAMP:20260423T153448Z
DTSTART:20260521T163000Z
DTEND:20260521T173000Z
SUMMARY:Spring Garden Gatherings 2026
CONTACT:Jacob Brown\, 606-375-5565\, email:jacob.brown.3@louisville.edu
DESCRIPTION:Mondays, 4pm at the Urban & Public Affairs Garden (426 W. Bloom
  St., behind Bettie Johnson Hall)\n\nThursdays, 12:30pm at the Garden Com
 mons (northeast of the Baptist Center)\n\nUofL’s organic campus gardens
  are great places to relax, reconnect, learn, and savor the sweet taste of
  sustainability!\n\nStudents, faculty, staff, and the public are all welco
 me to come experience the thrill of turning tiny seeds into an abundance o
 f hyper-local veggies, herbs, fruit & flowers.\n\nStop by anytime to sampl
 e the goodness and help us keep things watered and weeded.\n\nWe will gath
 er weekly at both of our campus food gardens throughout the spring (Jan. 2
 2 - May 28) to plant, weed, water & harvest. Tools and gloves provided.\n\
 nMonthly hands-on Garden Workshops will also be offered at these times.  
 \n\nEveryone who comes is welcome to share in the harvest!\n\nConnect with
  us and get all the details on Facebook or Instagram.\n\nFacebook Event.
GEO:38.2178;-85.7577
LOCATION:Baptist Campus Center
URL:https://events.stage.louisville.edu/events/spring-garden-gatherings-202
 6/2026-05-21
END:VEVENT
BEGIN:VEVENT
UID:ddb54f42-7911-4875-be8d-57b079a0cea7@events.stage.louisville.edu
DTSTAMP:20260423T164213Z
DTSTART:20260528T163000Z
DTEND:20260528T173000Z
SUMMARY:Spring Garden Gatherings 2026
CONTACT:Jacob Brown\, 606-375-5565\, email:jacob.brown.3@louisville.edu
DESCRIPTION:Mondays, 4pm at the Urban & Public Affairs Garden (426 W. Bloom
  St., behind Bettie Johnson Hall)\n\nThursdays, 12:30pm at the Garden Com
 mons (northeast of the Baptist Center)\n\nUofL’s organic campus gardens
  are great places to relax, reconnect, learn, and savor the sweet taste of
  sustainability!\n\nStudents, faculty, staff, and the public are all welco
 me to come experience the thrill of turning tiny seeds into an abundance o
 f hyper-local veggies, herbs, fruit & flowers.\n\nStop by anytime to sampl
 e the goodness and help us keep things watered and weeded.\n\nWe will gath
 er weekly at both of our campus food gardens throughout the spring (Jan. 2
 2 - May 28) to plant, weed, water & harvest. Tools and gloves provided.\n\
 nMonthly hands-on Garden Workshops will also be offered at these times.  
 \n\nEveryone who comes is welcome to share in the harvest!\n\nConnect with
  us and get all the details on Facebook or Instagram.\n\nFacebook Event.
GEO:38.2178;-85.7577
LOCATION:Baptist Campus Center
URL:https://events.stage.louisville.edu/events/spring-garden-gatherings-202
 6/2026-05-28
END:VEVENT
END:VCALENDAR