BEGIN:VCALENDAR
VERSION:2.0
PRODID:-//Drupal//recurring_events_ical//2.0//EN
BEGIN:VEVENT
UID:a2521cba-99cc-46fa-8dc9-50072dd2b215@events.stage.louisville.edu
DTSTAMP:20260422T161650Z
DTSTART:20260126T210000Z
DTEND:20260126T220000Z
SUMMARY:Spring Garden Gatherings 2026
CONTACT:Jacob Brown\, 606-375-5565\, email:jacob.brown.3@louisville.edu
DESCRIPTION:Mondays, 4pm at the Urban & Public Affairs Garden (426 W. Bloom
  St., behind Bettie Johnson Hall)\n\nThursdays, 12:30pm at the Garden Com
 mons (northeast of the Baptist Center)\n\nUofL’s organic campus gardens
  are great places to relax, reconnect, learn, and savor the sweet taste of
  sustainability!\n\nStudents, faculty, staff, and the public are all welco
 me to come experience the thrill of turning tiny seeds into an abundance o
 f hyper-local veggies, herbs, fruit & flowers.\n\nStop by anytime to sampl
 e the goodness and help us keep things watered and weeded.\n\nWe will gath
 er weekly at both of our campus food gardens throughout the spring (Jan. 2
 2 - May 28) to plant, weed, water & harvest. Tools and gloves provided.\n\
 nMonthly hands-on Garden Workshops will also be offered at these times.  
 \n\nEveryone who comes is welcome to share in the harvest!\n\nConnect with
  us and get all the details on Facebook or Instagram.\n\nFacebook Event.
GEO:38.2220;-85.7639
LOCATION:Urban Studies Institute
URL:https://events.stage.louisville.edu/events/spring-garden-gatherings-202
 6-0/2026-01-26
END:VEVENT
BEGIN:VEVENT
UID:a1a1634f-2f1c-4c00-8ccd-7a2ea201c017@events.stage.louisville.edu
DTSTAMP:20260422T161651Z
DTSTART:20260202T210000Z
DTEND:20260202T220000Z
SUMMARY:Spring Garden Gatherings 2026
CONTACT:Jacob Brown\, 606-375-5565\, email:jacob.brown.3@louisville.edu
DESCRIPTION:Mondays, 4pm at the Urban & Public Affairs Garden (426 W. Bloom
  St., behind Bettie Johnson Hall)\n\nThursdays, 12:30pm at the Garden Com
 mons (northeast of the Baptist Center)\n\nUofL’s organic campus gardens
  are great places to relax, reconnect, learn, and savor the sweet taste of
  sustainability!\n\nStudents, faculty, staff, and the public are all welco
 me to come experience the thrill of turning tiny seeds into an abundance o
 f hyper-local veggies, herbs, fruit & flowers.\n\nStop by anytime to sampl
 e the goodness and help us keep things watered and weeded.\n\nWe will gath
 er weekly at both of our campus food gardens throughout the spring (Jan. 2
 2 - May 28) to plant, weed, water & harvest. Tools and gloves provided.\n\
 nMonthly hands-on Garden Workshops will also be offered at these times.  
 \n\nEveryone who comes is welcome to share in the harvest!\n\nConnect with
  us and get all the details on Facebook or Instagram.\n\nFacebook Event.
GEO:38.2220;-85.7639
LOCATION:Urban Studies Institute
URL:https://events.stage.louisville.edu/events/spring-garden-gatherings-202
 6-0/2026-02-02
END:VEVENT
BEGIN:VEVENT
UID:be6cb0c4-465c-4263-82f8-f3f84b180b95@events.stage.louisville.edu
DTSTAMP:20260422T161652Z
DTSTART:20260209T210000Z
DTEND:20260209T220000Z
SUMMARY:Spring Garden Gatherings 2026
CONTACT:Jacob Brown\, 606-375-5565\, email:jacob.brown.3@louisville.edu
DESCRIPTION:Mondays, 4pm at the Urban & Public Affairs Garden (426 W. Bloom
  St., behind Bettie Johnson Hall)\n\nThursdays, 12:30pm at the Garden Com
 mons (northeast of the Baptist Center)\n\nUofL’s organic campus gardens
  are great places to relax, reconnect, learn, and savor the sweet taste of
  sustainability!\n\nStudents, faculty, staff, and the public are all welco
 me to come experience the thrill of turning tiny seeds into an abundance o
 f hyper-local veggies, herbs, fruit & flowers.\n\nStop by anytime to sampl
 e the goodness and help us keep things watered and weeded.\n\nWe will gath
 er weekly at both of our campus food gardens throughout the spring (Jan. 2
 2 - May 28) to plant, weed, water & harvest. Tools and gloves provided.\n\
 nMonthly hands-on Garden Workshops will also be offered at these times.  
 \n\nEveryone who comes is welcome to share in the harvest!\n\nConnect with
  us and get all the details on Facebook or Instagram.\n\nFacebook Event.
GEO:38.2220;-85.7639
LOCATION:Urban Studies Institute
URL:https://events.stage.louisville.edu/events/spring-garden-gatherings-202
 6-0/2026-02-09
END:VEVENT
BEGIN:VEVENT
UID:d43e0f5f-0f6f-496c-8583-ca00759d732f@events.stage.louisville.edu
DTSTAMP:20260422T161653Z
DTSTART:20260216T210000Z
DTEND:20260216T220000Z
SUMMARY:Spring Garden Gatherings 2026
CONTACT:Jacob Brown\, 606-375-5565\, email:jacob.brown.3@louisville.edu
DESCRIPTION:Mondays, 4pm at the Urban & Public Affairs Garden (426 W. Bloom
  St., behind Bettie Johnson Hall)\n\nThursdays, 12:30pm at the Garden Com
 mons (northeast of the Baptist Center)\n\nUofL’s organic campus gardens
  are great places to relax, reconnect, learn, and savor the sweet taste of
  sustainability!\n\nStudents, faculty, staff, and the public are all welco
 me to come experience the thrill of turning tiny seeds into an abundance o
 f hyper-local veggies, herbs, fruit & flowers.\n\nStop by anytime to sampl
 e the goodness and help us keep things watered and weeded.\n\nWe will gath
 er weekly at both of our campus food gardens throughout the spring (Jan. 2
 2 - May 28) to plant, weed, water & harvest. Tools and gloves provided.\n\
 nMonthly hands-on Garden Workshops will also be offered at these times.  
 \n\nEveryone who comes is welcome to share in the harvest!\n\nConnect with
  us and get all the details on Facebook or Instagram.\n\nFacebook Event.
GEO:38.2220;-85.7639
LOCATION:Urban Studies Institute
URL:https://events.stage.louisville.edu/events/spring-garden-gatherings-202
 6-0/2026-02-16
END:VEVENT
BEGIN:VEVENT
UID:a1179562-5c0c-4834-aec8-9f38fdcdec4c@events.stage.louisville.edu
DTSTAMP:20260422T161654Z
DTSTART:20260223T210000Z
DTEND:20260223T220000Z
SUMMARY:Spring Garden Gatherings 2026
CONTACT:Jacob Brown\, 606-375-5565\, email:jacob.brown.3@louisville.edu
DESCRIPTION:Mondays, 4pm at the Urban & Public Affairs Garden (426 W. Bloom
  St., behind Bettie Johnson Hall)\n\nThursdays, 12:30pm at the Garden Com
 mons (northeast of the Baptist Center)\n\nUofL’s organic campus gardens
  are great places to relax, reconnect, learn, and savor the sweet taste of
  sustainability!\n\nStudents, faculty, staff, and the public are all welco
 me to come experience the thrill of turning tiny seeds into an abundance o
 f hyper-local veggies, herbs, fruit & flowers.\n\nStop by anytime to sampl
 e the goodness and help us keep things watered and weeded.\n\nWe will gath
 er weekly at both of our campus food gardens throughout the spring (Jan. 2
 2 - May 28) to plant, weed, water & harvest. Tools and gloves provided.\n\
 nMonthly hands-on Garden Workshops will also be offered at these times.  
 \n\nEveryone who comes is welcome to share in the harvest!\n\nConnect with
  us and get all the details on Facebook or Instagram.\n\nFacebook Event.
GEO:38.2220;-85.7639
LOCATION:Urban Studies Institute
URL:https://events.stage.louisville.edu/events/spring-garden-gatherings-202
 6-0/2026-02-23
END:VEVENT
BEGIN:VEVENT
UID:6f03db9a-032c-401f-842d-36c9b5d87d66@events.stage.louisville.edu
DTSTAMP:20260422T161656Z
DTSTART:20260302T210000Z
DTEND:20260302T220000Z
SUMMARY:Spring Garden Gatherings 2026
CONTACT:Jacob Brown\, 606-375-5565\, email:jacob.brown.3@louisville.edu
DESCRIPTION:Mondays, 4pm at the Urban & Public Affairs Garden (426 W. Bloom
  St., behind Bettie Johnson Hall)\n\nThursdays, 12:30pm at the Garden Com
 mons (northeast of the Baptist Center)\n\nUofL’s organic campus gardens
  are great places to relax, reconnect, learn, and savor the sweet taste of
  sustainability!\n\nStudents, faculty, staff, and the public are all welco
 me to come experience the thrill of turning tiny seeds into an abundance o
 f hyper-local veggies, herbs, fruit & flowers.\n\nStop by anytime to sampl
 e the goodness and help us keep things watered and weeded.\n\nWe will gath
 er weekly at both of our campus food gardens throughout the spring (Jan. 2
 2 - May 28) to plant, weed, water & harvest. Tools and gloves provided.\n\
 nMonthly hands-on Garden Workshops will also be offered at these times.  
 \n\nEveryone who comes is welcome to share in the harvest!\n\nConnect with
  us and get all the details on Facebook or Instagram.\n\nFacebook Event.
GEO:38.2220;-85.7639
LOCATION:Urban Studies Institute
URL:https://events.stage.louisville.edu/events/spring-garden-gatherings-202
 6-0/2026-03-02
END:VEVENT
BEGIN:VEVENT
UID:760b507c-cc2f-4a1e-a5cf-8eae61c26e52@events.stage.louisville.edu
DTSTAMP:20260422T161657Z
DTSTART:20260316T200000Z
DTEND:20260316T210000Z
SUMMARY:Spring Garden Gatherings 2026
CONTACT:Jacob Brown\, 606-375-5565\, email:jacob.brown.3@louisville.edu
DESCRIPTION:Mondays, 4pm at the Urban & Public Affairs Garden (426 W. Bloom
  St., behind Bettie Johnson Hall)\n\nThursdays, 12:30pm at the Garden Com
 mons (northeast of the Baptist Center)\n\nUofL’s organic campus gardens
  are great places to relax, reconnect, learn, and savor the sweet taste of
  sustainability!\n\nStudents, faculty, staff, and the public are all welco
 me to come experience the thrill of turning tiny seeds into an abundance o
 f hyper-local veggies, herbs, fruit & flowers.\n\nStop by anytime to sampl
 e the goodness and help us keep things watered and weeded.\n\nWe will gath
 er weekly at both of our campus food gardens throughout the spring (Jan. 2
 2 - May 28) to plant, weed, water & harvest. Tools and gloves provided.\n\
 nMonthly hands-on Garden Workshops will also be offered at these times.  
 \n\nEveryone who comes is welcome to share in the harvest!\n\nConnect with
  us and get all the details on Facebook or Instagram.\n\nFacebook Event.
GEO:38.2220;-85.7639
LOCATION:Urban Studies Institute
URL:https://events.stage.louisville.edu/events/spring-garden-gatherings-202
 6-0/2026-03-16
END:VEVENT
BEGIN:VEVENT
UID:f1cb8912-884e-454c-ac20-26479b155a24@events.stage.louisville.edu
DTSTAMP:20260422T161658Z
DTSTART:20260323T200000Z
DTEND:20260323T210000Z
SUMMARY:Spring Garden Gatherings 2026
CONTACT:Jacob Brown\, 606-375-5565\, email:jacob.brown.3@louisville.edu
DESCRIPTION:Mondays, 4pm at the Urban & Public Affairs Garden (426 W. Bloom
  St., behind Bettie Johnson Hall)\n\nThursdays, 12:30pm at the Garden Com
 mons (northeast of the Baptist Center)\n\nUofL’s organic campus gardens
  are great places to relax, reconnect, learn, and savor the sweet taste of
  sustainability!\n\nStudents, faculty, staff, and the public are all welco
 me to come experience the thrill of turning tiny seeds into an abundance o
 f hyper-local veggies, herbs, fruit & flowers.\n\nStop by anytime to sampl
 e the goodness and help us keep things watered and weeded.\n\nWe will gath
 er weekly at both of our campus food gardens throughout the spring (Jan. 2
 2 - May 28) to plant, weed, water & harvest. Tools and gloves provided.\n\
 nMonthly hands-on Garden Workshops will also be offered at these times.  
 \n\nEveryone who comes is welcome to share in the harvest!\n\nConnect with
  us and get all the details on Facebook or Instagram.\n\nFacebook Event.
GEO:38.2220;-85.7639
LOCATION:Urban Studies Institute
URL:https://events.stage.louisville.edu/events/spring-garden-gatherings-202
 6-0/2026-03-23
END:VEVENT
BEGIN:VEVENT
UID:2d00a150-86f1-4a81-8e52-d3a32bf00d3e@events.stage.louisville.edu
DTSTAMP:20260422T161659Z
DTSTART:20260330T200000Z
DTEND:20260330T210000Z
SUMMARY:Spring Garden Gatherings 2026
CONTACT:Jacob Brown\, 606-375-5565\, email:jacob.brown.3@louisville.edu
DESCRIPTION:Mondays, 4pm at the Urban & Public Affairs Garden (426 W. Bloom
  St., behind Bettie Johnson Hall)\n\nThursdays, 12:30pm at the Garden Com
 mons (northeast of the Baptist Center)\n\nUofL’s organic campus gardens
  are great places to relax, reconnect, learn, and savor the sweet taste of
  sustainability!\n\nStudents, faculty, staff, and the public are all welco
 me to come experience the thrill of turning tiny seeds into an abundance o
 f hyper-local veggies, herbs, fruit & flowers.\n\nStop by anytime to sampl
 e the goodness and help us keep things watered and weeded.\n\nWe will gath
 er weekly at both of our campus food gardens throughout the spring (Jan. 2
 2 - May 28) to plant, weed, water & harvest. Tools and gloves provided.\n\
 nMonthly hands-on Garden Workshops will also be offered at these times.  
 \n\nEveryone who comes is welcome to share in the harvest!\n\nConnect with
  us and get all the details on Facebook or Instagram.\n\nFacebook Event.
GEO:38.2220;-85.7639
LOCATION:Urban Studies Institute
URL:https://events.stage.louisville.edu/events/spring-garden-gatherings-202
 6-0/2026-03-30
END:VEVENT
BEGIN:VEVENT
UID:4faa1dd9-e78b-4f41-b53e-b7da6e7d7df3@events.stage.louisville.edu
DTSTAMP:20260422T161701Z
DTSTART:20260406T200000Z
DTEND:20260406T210000Z
SUMMARY:Spring Garden Gatherings 2026
CONTACT:Jacob Brown\, 606-375-5565\, email:jacob.brown.3@louisville.edu
DESCRIPTION:Mondays, 4pm at the Urban & Public Affairs Garden (426 W. Bloom
  St., behind Bettie Johnson Hall)\n\nThursdays, 12:30pm at the Garden Com
 mons (northeast of the Baptist Center)\n\nUofL’s organic campus gardens
  are great places to relax, reconnect, learn, and savor the sweet taste of
  sustainability!\n\nStudents, faculty, staff, and the public are all welco
 me to come experience the thrill of turning tiny seeds into an abundance o
 f hyper-local veggies, herbs, fruit & flowers.\n\nStop by anytime to sampl
 e the goodness and help us keep things watered and weeded.\n\nWe will gath
 er weekly at both of our campus food gardens throughout the spring (Jan. 2
 2 - May 28) to plant, weed, water & harvest. Tools and gloves provided.\n\
 nMonthly hands-on Garden Workshops will also be offered at these times.  
 \n\nEveryone who comes is welcome to share in the harvest!\n\nConnect with
  us and get all the details on Facebook or Instagram.\n\nFacebook Event.
GEO:38.2220;-85.7639
LOCATION:Urban Studies Institute
URL:https://events.stage.louisville.edu/events/spring-garden-gatherings-202
 6-0/2026-04-06
END:VEVENT
BEGIN:VEVENT
UID:a6cd4cc3-a7bf-4a11-bc6c-a5c3ca2dbbec@events.stage.louisville.edu
DTSTAMP:20260422T161702Z
DTSTART:20260413T200000Z
DTEND:20260413T210000Z
SUMMARY:Spring Garden Gatherings 2026
CONTACT:Jacob Brown\, 606-375-5565\, email:jacob.brown.3@louisville.edu
DESCRIPTION:Mondays, 4pm at the Urban & Public Affairs Garden (426 W. Bloom
  St., behind Bettie Johnson Hall)\n\nThursdays, 12:30pm at the Garden Com
 mons (northeast of the Baptist Center)\n\nUofL’s organic campus gardens
  are great places to relax, reconnect, learn, and savor the sweet taste of
  sustainability!\n\nStudents, faculty, staff, and the public are all welco
 me to come experience the thrill of turning tiny seeds into an abundance o
 f hyper-local veggies, herbs, fruit & flowers.\n\nStop by anytime to sampl
 e the goodness and help us keep things watered and weeded.\n\nWe will gath
 er weekly at both of our campus food gardens throughout the spring (Jan. 2
 2 - May 28) to plant, weed, water & harvest. Tools and gloves provided.\n\
 nMonthly hands-on Garden Workshops will also be offered at these times.  
 \n\nEveryone who comes is welcome to share in the harvest!\n\nConnect with
  us and get all the details on Facebook or Instagram.\n\nFacebook Event.
GEO:38.2220;-85.7639
LOCATION:Urban Studies Institute
URL:https://events.stage.louisville.edu/events/spring-garden-gatherings-202
 6-0/2026-04-13
END:VEVENT
BEGIN:VEVENT
UID:f2b85b1c-4df6-4d82-bca4-31bfa33c44e3@events.stage.louisville.edu
DTSTAMP:20260423T062933Z
DTSTART:20260420T200000Z
DTEND:20260420T210000Z
SUMMARY:Spring Garden Gatherings 2026
CONTACT:Jacob Brown\, 606-375-5565\, email:jacob.brown.3@louisville.edu
DESCRIPTION:Mondays, 4pm at the Urban & Public Affairs Garden (426 W. Bloom
  St., behind Bettie Johnson Hall)\n\nThursdays, 12:30pm at the Garden Com
 mons (northeast of the Baptist Center)\n\nUofL’s organic campus gardens
  are great places to relax, reconnect, learn, and savor the sweet taste of
  sustainability!\n\nStudents, faculty, staff, and the public are all welco
 me to come experience the thrill of turning tiny seeds into an abundance o
 f hyper-local veggies, herbs, fruit & flowers.\n\nStop by anytime to sampl
 e the goodness and help us keep things watered and weeded.\n\nWe will gath
 er weekly at both of our campus food gardens throughout the spring (Jan. 2
 2 - May 28) to plant, weed, water & harvest. Tools and gloves provided.\n\
 nMonthly hands-on Garden Workshops will also be offered at these times.  
 \n\nEveryone who comes is welcome to share in the harvest!\n\nConnect with
  us and get all the details on Facebook or Instagram.\n\nFacebook Event.
GEO:38.2220;-85.7639
LOCATION:Urban Studies Institute
URL:https://events.stage.louisville.edu/events/spring-garden-gatherings-202
 6-0/2026-04-20
END:VEVENT
BEGIN:VEVENT
UID:c0012e22-3b28-46c6-b882-41a96000d853@events.stage.louisville.edu
DTSTAMP:20260423T094847Z
DTSTART:20260427T200000Z
DTEND:20260427T210000Z
SUMMARY:Spring Garden Gatherings 2026
CONTACT:Jacob Brown\, 606-375-5565\, email:jacob.brown.3@louisville.edu
DESCRIPTION:Mondays, 4pm at the Urban & Public Affairs Garden (426 W. Bloom
  St., behind Bettie Johnson Hall)\n\nThursdays, 12:30pm at the Garden Com
 mons (northeast of the Baptist Center)\n\nUofL’s organic campus gardens
  are great places to relax, reconnect, learn, and savor the sweet taste of
  sustainability!\n\nStudents, faculty, staff, and the public are all welco
 me to come experience the thrill of turning tiny seeds into an abundance o
 f hyper-local veggies, herbs, fruit & flowers.\n\nStop by anytime to sampl
 e the goodness and help us keep things watered and weeded.\n\nWe will gath
 er weekly at both of our campus food gardens throughout the spring (Jan. 2
 2 - May 28) to plant, weed, water & harvest. Tools and gloves provided.\n\
 nMonthly hands-on Garden Workshops will also be offered at these times.  
 \n\nEveryone who comes is welcome to share in the harvest!\n\nConnect with
  us and get all the details on Facebook or Instagram.\n\nFacebook Event.
GEO:38.2220;-85.7639
LOCATION:Urban Studies Institute
URL:https://events.stage.louisville.edu/events/spring-garden-gatherings-202
 6-0/2026-04-27
END:VEVENT
BEGIN:VEVENT
UID:7419dd3a-12de-4a80-a010-c9eabd72ffb1@events.stage.louisville.edu
DTSTAMP:20260423T095025Z
DTSTART:20260504T200000Z
DTEND:20260504T210000Z
SUMMARY:Spring Garden Gatherings 2026
CONTACT:Jacob Brown\, 606-375-5565\, email:jacob.brown.3@louisville.edu
DESCRIPTION:Mondays, 4pm at the Urban & Public Affairs Garden (426 W. Bloom
  St., behind Bettie Johnson Hall)\n\nThursdays, 12:30pm at the Garden Com
 mons (northeast of the Baptist Center)\n\nUofL’s organic campus gardens
  are great places to relax, reconnect, learn, and savor the sweet taste of
  sustainability!\n\nStudents, faculty, staff, and the public are all welco
 me to come experience the thrill of turning tiny seeds into an abundance o
 f hyper-local veggies, herbs, fruit & flowers.\n\nStop by anytime to sampl
 e the goodness and help us keep things watered and weeded.\n\nWe will gath
 er weekly at both of our campus food gardens throughout the spring (Jan. 2
 2 - May 28) to plant, weed, water & harvest. Tools and gloves provided.\n\
 nMonthly hands-on Garden Workshops will also be offered at these times.  
 \n\nEveryone who comes is welcome to share in the harvest!\n\nConnect with
  us and get all the details on Facebook or Instagram.\n\nFacebook Event.
GEO:38.2220;-85.7639
LOCATION:Urban Studies Institute
URL:https://events.stage.louisville.edu/events/spring-garden-gatherings-202
 6-0/2026-05-04
END:VEVENT
BEGIN:VEVENT
UID:f6aca9a6-5cdb-48b4-8534-19a31562d787@events.stage.louisville.edu
DTSTAMP:20260423T095157Z
DTSTART:20260511T200000Z
DTEND:20260511T210000Z
SUMMARY:Spring Garden Gatherings 2026
CONTACT:Jacob Brown\, 606-375-5565\, email:jacob.brown.3@louisville.edu
DESCRIPTION:Mondays, 4pm at the Urban & Public Affairs Garden (426 W. Bloom
  St., behind Bettie Johnson Hall)\n\nThursdays, 12:30pm at the Garden Com
 mons (northeast of the Baptist Center)\n\nUofL’s organic campus gardens
  are great places to relax, reconnect, learn, and savor the sweet taste of
  sustainability!\n\nStudents, faculty, staff, and the public are all welco
 me to come experience the thrill of turning tiny seeds into an abundance o
 f hyper-local veggies, herbs, fruit & flowers.\n\nStop by anytime to sampl
 e the goodness and help us keep things watered and weeded.\n\nWe will gath
 er weekly at both of our campus food gardens throughout the spring (Jan. 2
 2 - May 28) to plant, weed, water & harvest. Tools and gloves provided.\n\
 nMonthly hands-on Garden Workshops will also be offered at these times.  
 \n\nEveryone who comes is welcome to share in the harvest!\n\nConnect with
  us and get all the details on Facebook or Instagram.\n\nFacebook Event.
GEO:38.2220;-85.7639
LOCATION:Urban Studies Institute
URL:https://events.stage.louisville.edu/events/spring-garden-gatherings-202
 6-0/2026-05-11
END:VEVENT
BEGIN:VEVENT
UID:320950f9-ad77-4feb-b506-455d41fbd51a@events.stage.louisville.edu
DTSTAMP:20260423T095317Z
DTSTART:20260518T200000Z
DTEND:20260518T210000Z
SUMMARY:Spring Garden Gatherings 2026
CONTACT:Jacob Brown\, 606-375-5565\, email:jacob.brown.3@louisville.edu
DESCRIPTION:Mondays, 4pm at the Urban & Public Affairs Garden (426 W. Bloom
  St., behind Bettie Johnson Hall)\n\nThursdays, 12:30pm at the Garden Com
 mons (northeast of the Baptist Center)\n\nUofL’s organic campus gardens
  are great places to relax, reconnect, learn, and savor the sweet taste of
  sustainability!\n\nStudents, faculty, staff, and the public are all welco
 me to come experience the thrill of turning tiny seeds into an abundance o
 f hyper-local veggies, herbs, fruit & flowers.\n\nStop by anytime to sampl
 e the goodness and help us keep things watered and weeded.\n\nWe will gath
 er weekly at both of our campus food gardens throughout the spring (Jan. 2
 2 - May 28) to plant, weed, water & harvest. Tools and gloves provided.\n\
 nMonthly hands-on Garden Workshops will also be offered at these times.  
 \n\nEveryone who comes is welcome to share in the harvest!\n\nConnect with
  us and get all the details on Facebook or Instagram.\n\nFacebook Event.
GEO:38.2220;-85.7639
LOCATION:Urban Studies Institute
URL:https://events.stage.louisville.edu/events/spring-garden-gatherings-202
 6-0/2026-05-18
END:VEVENT
END:VCALENDAR