BEGIN:VCALENDAR
VERSION:2.0
PRODID:-//Drupal//recurring_events_ical//2.0//EN
BEGIN:VEVENT
UID:4761e90a-dca0-48dc-a22e-56352491f8d3@events.stage.louisville.edu
DTSTAMP:20260423T135457Z
DTSTART:20260521T163000Z
DTEND:20260521T180000Z
SUMMARY:Serviceberry Foraging Workshop
CONTACT:Rose Hoff\, (502) 230-0447\, email:abigail.hoff.1@louisville.edu
DESCRIPTION:Bring a pail or Tupperware and get ready to load up on the swee
 test "secret" right under our noses!\n\nServiceberries (aka Juneberries) a
 re native to Kentucky (and 48 states!).\n\nThey are planted all over the c
 ity as a common, low-maintenance street tree. The fruits are ripe for only
  two weeks around June 1st.\n\nThey are similar to blueberries but a littl
 e bit nutty (the trees are in the almond family!).\n\nUofL's campus boasts
  many loaded serviceberries and during this special workshop, we will walk
  around to visit many of them!\n\nPick and take home as many as you can. E
 njoy them fresh or freeze them for pies and smoothies year-round!\n\nMeetu
 p at the Garden Commons and we'll go from there. \n\nFor inspiration, rea
 d Robin Wall Kimmerer's deeply insightful essay, The Serviceberry: An Econ
 omy of Abundance.  \n\nFacebook Event.
GEO:38.2178;-85.7577
LOCATION:Baptist Campus Center
URL:https://events.stage.louisville.edu/events/serviceberry-foraging-worksh
 op-0/2026-05-21
END:VEVENT
END:VCALENDAR