BEGIN:VCALENDAR
VERSION:2.0
PRODID:-//Drupal//recurring_events_ical//2.0//EN
BEGIN:VEVENT
UID:ff1aa795-1860-4cca-b823-baeabf34ec4b@events.stage.louisville.edu
DTSTAMP:20260422T161606Z
DTSTART:20260109T200000Z
DTEND:20260109T210000Z
SUMMARY:Graduate Student Writing Group
CONTACT:MacKenzie Croley \, 502-852-2173\, email:writing@louisville.edu
DESCRIPTION:Need some accountability, a zen space, and some caffeine to get
  writing done? Consider joining the University Writing Center’s Graduate
  Student Writing Group on Fridays from 3-4 p.m. in Ekstrom 132 or on Teams
 . All dissertation and thesis writers are welcome. The group will be hoste
 d by Assistant Director MacKenzie Croley who will offer writing motivation
 , help you set daily writing goals, and troubleshoot writing problems. Joi
 n any time: no commitment necessary. 
URL:https://events.stage.louisville.edu/events/graduate-student-writing-gro
 up-2/2026-01-09
END:VEVENT
BEGIN:VEVENT
UID:711c87c2-61ec-4fe7-99b4-879a5a618b81@events.stage.louisville.edu
DTSTAMP:20260422T161608Z
DTSTART:20260116T200000Z
DTEND:20260116T210000Z
SUMMARY:Graduate Student Writing Group
CONTACT:MacKenzie Croley \, 502-852-2173\, email:writing@louisville.edu
DESCRIPTION:Need some accountability, a zen space, and some caffeine to get
  writing done? Consider joining the University Writing Center’s Graduate
  Student Writing Group on Fridays from 3-4 p.m. in Ekstrom 132 or on Teams
 . All dissertation and thesis writers are welcome. The group will be hoste
 d by Assistant Director MacKenzie Croley who will offer writing motivation
 , help you set daily writing goals, and troubleshoot writing problems. Joi
 n any time: no commitment necessary. 
URL:https://events.stage.louisville.edu/events/graduate-student-writing-gro
 up-2/2026-01-16
END:VEVENT
BEGIN:VEVENT
UID:a10fd864-0582-4683-a713-1f30aa4e8fed@events.stage.louisville.edu
DTSTAMP:20260422T161609Z
DTSTART:20260123T200000Z
DTEND:20260123T210000Z
SUMMARY:Graduate Student Writing Group
CONTACT:MacKenzie Croley \, 502-852-2173\, email:writing@louisville.edu
DESCRIPTION:Need some accountability, a zen space, and some caffeine to get
  writing done? Consider joining the University Writing Center’s Graduate
  Student Writing Group on Fridays from 3-4 p.m. in Ekstrom 132 or on Teams
 . All dissertation and thesis writers are welcome. The group will be hoste
 d by Assistant Director MacKenzie Croley who will offer writing motivation
 , help you set daily writing goals, and troubleshoot writing problems. Joi
 n any time: no commitment necessary. 
URL:https://events.stage.louisville.edu/events/graduate-student-writing-gro
 up-2/2026-01-23
END:VEVENT
BEGIN:VEVENT
UID:1f4e83ac-e420-4f37-88d8-361521145240@events.stage.louisville.edu
DTSTAMP:20260422T161611Z
DTSTART:20260130T200000Z
DTEND:20260130T210000Z
SUMMARY:Graduate Student Writing Group
CONTACT:MacKenzie Croley \, 502-852-2173\, email:writing@louisville.edu
DESCRIPTION:Need some accountability, a zen space, and some caffeine to get
  writing done? Consider joining the University Writing Center’s Graduate
  Student Writing Group on Fridays from 3-4 p.m. in Ekstrom 132 or on Teams
 . All dissertation and thesis writers are welcome. The group will be hoste
 d by Assistant Director MacKenzie Croley who will offer writing motivation
 , help you set daily writing goals, and troubleshoot writing problems. Joi
 n any time: no commitment necessary. 
URL:https://events.stage.louisville.edu/events/graduate-student-writing-gro
 up-2/2026-01-30
END:VEVENT
BEGIN:VEVENT
UID:992a9d95-2ece-4aa1-8979-7f7f92225956@events.stage.louisville.edu
DTSTAMP:20260422T161612Z
DTSTART:20260206T200000Z
DTEND:20260206T210000Z
SUMMARY:Graduate Student Writing Group
CONTACT:MacKenzie Croley \, 502-852-2173\, email:writing@louisville.edu
DESCRIPTION:Need some accountability, a zen space, and some caffeine to get
  writing done? Consider joining the University Writing Center’s Graduate
  Student Writing Group on Fridays from 3-4 p.m. in Ekstrom 132 or on Teams
 . All dissertation and thesis writers are welcome. The group will be hoste
 d by Assistant Director MacKenzie Croley who will offer writing motivation
 , help you set daily writing goals, and troubleshoot writing problems. Joi
 n any time: no commitment necessary. 
URL:https://events.stage.louisville.edu/events/graduate-student-writing-gro
 up-2/2026-02-06
END:VEVENT
BEGIN:VEVENT
UID:30362dd1-6ebf-4f57-90f2-c9f923040582@events.stage.louisville.edu
DTSTAMP:20260422T161613Z
DTSTART:20260213T200000Z
DTEND:20260213T210000Z
SUMMARY:Graduate Student Writing Group
CONTACT:MacKenzie Croley \, 502-852-2173\, email:writing@louisville.edu
DESCRIPTION:Need some accountability, a zen space, and some caffeine to get
  writing done? Consider joining the University Writing Center’s Graduate
  Student Writing Group on Fridays from 3-4 p.m. in Ekstrom 132 or on Teams
 . All dissertation and thesis writers are welcome. The group will be hoste
 d by Assistant Director MacKenzie Croley who will offer writing motivation
 , help you set daily writing goals, and troubleshoot writing problems. Joi
 n any time: no commitment necessary. 
URL:https://events.stage.louisville.edu/events/graduate-student-writing-gro
 up-2/2026-02-13
END:VEVENT
BEGIN:VEVENT
UID:fb18ccba-fae2-4399-9288-a4798a524480@events.stage.louisville.edu
DTSTAMP:20260422T161615Z
DTSTART:20260220T200000Z
DTEND:20260220T210000Z
SUMMARY:Graduate Student Writing Group
CONTACT:MacKenzie Croley \, 502-852-2173\, email:writing@louisville.edu
DESCRIPTION:Need some accountability, a zen space, and some caffeine to get
  writing done? Consider joining the University Writing Center’s Graduate
  Student Writing Group on Fridays from 3-4 p.m. in Ekstrom 132 or on Teams
 . All dissertation and thesis writers are welcome. The group will be hoste
 d by Assistant Director MacKenzie Croley who will offer writing motivation
 , help you set daily writing goals, and troubleshoot writing problems. Joi
 n any time: no commitment necessary. 
URL:https://events.stage.louisville.edu/events/graduate-student-writing-gro
 up-2/2026-02-20
END:VEVENT
BEGIN:VEVENT
UID:8a50e466-0519-45ec-bab5-98533e5c58a9@events.stage.louisville.edu
DTSTAMP:20260422T161616Z
DTSTART:20260227T200000Z
DTEND:20260227T210000Z
SUMMARY:Graduate Student Writing Group
CONTACT:MacKenzie Croley \, 502-852-2173\, email:writing@louisville.edu
DESCRIPTION:Need some accountability, a zen space, and some caffeine to get
  writing done? Consider joining the University Writing Center’s Graduate
  Student Writing Group on Fridays from 3-4 p.m. in Ekstrom 132 or on Teams
 . All dissertation and thesis writers are welcome. The group will be hoste
 d by Assistant Director MacKenzie Croley who will offer writing motivation
 , help you set daily writing goals, and troubleshoot writing problems. Joi
 n any time: no commitment necessary. 
URL:https://events.stage.louisville.edu/events/graduate-student-writing-gro
 up-2/2026-02-27
END:VEVENT
BEGIN:VEVENT
UID:72db3f4e-3e55-4b7e-b41f-793d9a5bb280@events.stage.louisville.edu
DTSTAMP:20260423T071628Z
DTSTART:20260306T200000Z
DTEND:20260306T210000Z
SUMMARY:Graduate Student Writing Group
CONTACT:MacKenzie Croley \, 502-852-2173\, email:writing@louisville.edu
DESCRIPTION:Need some accountability, a zen space, and some caffeine to get
  writing done? Consider joining the University Writing Center’s Graduate
  Student Writing Group on Fridays from 3-4 p.m. in Ekstrom 132 or on Teams
 . All dissertation and thesis writers are welcome. The group will be hoste
 d by Assistant Director MacKenzie Croley who will offer writing motivation
 , help you set daily writing goals, and troubleshoot writing problems. Joi
 n any time: no commitment necessary. 
URL:https://events.stage.louisville.edu/events/graduate-student-writing-gro
 up-2/2026-03-06
END:VEVENT
BEGIN:VEVENT
UID:ada7971c-2d8d-42ae-8673-ff866d8faa46@events.stage.louisville.edu
DTSTAMP:20260422T161618Z
DTSTART:20260320T190000Z
DTEND:20260320T200000Z
SUMMARY:Graduate Student Writing Group
CONTACT:MacKenzie Croley \, 502-852-2173\, email:writing@louisville.edu
DESCRIPTION:Need some accountability, a zen space, and some caffeine to get
  writing done? Consider joining the University Writing Center’s Graduate
  Student Writing Group on Fridays from 3-4 p.m. in Ekstrom 132 or on Teams
 . All dissertation and thesis writers are welcome. The group will be hoste
 d by Assistant Director MacKenzie Croley who will offer writing motivation
 , help you set daily writing goals, and troubleshoot writing problems. Joi
 n any time: no commitment necessary. 
URL:https://events.stage.louisville.edu/events/graduate-student-writing-gro
 up-2/2026-03-20
END:VEVENT
BEGIN:VEVENT
UID:de026c26-dbb3-4ba7-b602-735e9568d4d6@events.stage.louisville.edu
DTSTAMP:20260422T161619Z
DTSTART:20260327T190000Z
DTEND:20260327T200000Z
SUMMARY:Graduate Student Writing Group
CONTACT:MacKenzie Croley \, 502-852-2173\, email:writing@louisville.edu
DESCRIPTION:Need some accountability, a zen space, and some caffeine to get
  writing done? Consider joining the University Writing Center’s Graduate
  Student Writing Group on Fridays from 3-4 p.m. in Ekstrom 132 or on Teams
 . All dissertation and thesis writers are welcome. The group will be hoste
 d by Assistant Director MacKenzie Croley who will offer writing motivation
 , help you set daily writing goals, and troubleshoot writing problems. Joi
 n any time: no commitment necessary. 
URL:https://events.stage.louisville.edu/events/graduate-student-writing-gro
 up-2/2026-03-27
END:VEVENT
BEGIN:VEVENT
UID:36997fb1-ecec-49fc-92d2-4f77c874ccd4@events.stage.louisville.edu
DTSTAMP:20260422T202405Z
DTSTART:20260403T190000Z
DTEND:20260403T200000Z
SUMMARY:Graduate Student Writing Group
CONTACT:MacKenzie Croley \, 502-852-2173\, email:writing@louisville.edu
DESCRIPTION:Need some accountability, a zen space, and some caffeine to get
  writing done? Consider joining the University Writing Center’s Graduate
  Student Writing Group on Fridays from 3-4 p.m. in Ekstrom 132 or on Teams
 . All dissertation and thesis writers are welcome. The group will be hoste
 d by Assistant Director MacKenzie Croley who will offer writing motivation
 , help you set daily writing goals, and troubleshoot writing problems. Joi
 n any time: no commitment necessary. 
URL:https://events.stage.louisville.edu/events/graduate-student-writing-gro
 up-2/2026-04-03
END:VEVENT
BEGIN:VEVENT
UID:df17d0f9-94a4-4863-8d3e-ecf4f99cf884@events.stage.louisville.edu
DTSTAMP:20260422T202410Z
DTSTART:20260410T190000Z
DTEND:20260410T200000Z
SUMMARY:Graduate Student Writing Group
CONTACT:MacKenzie Croley \, 502-852-2173\, email:writing@louisville.edu
DESCRIPTION:Need some accountability, a zen space, and some caffeine to get
  writing done? Consider joining the University Writing Center’s Graduate
  Student Writing Group on Fridays from 3-4 p.m. in Ekstrom 132 or on Teams
 . All dissertation and thesis writers are welcome. The group will be hoste
 d by Assistant Director MacKenzie Croley who will offer writing motivation
 , help you set daily writing goals, and troubleshoot writing problems. Joi
 n any time: no commitment necessary. 
URL:https://events.stage.louisville.edu/events/graduate-student-writing-gro
 up-2/2026-04-10
END:VEVENT
BEGIN:VEVENT
UID:aebe0761-cb3e-44aa-8be3-05fcfb2e68a1@events.stage.louisville.edu
DTSTAMP:20260422T161624Z
DTSTART:20260417T190000Z
DTEND:20260417T200000Z
SUMMARY:Graduate Student Writing Group
CONTACT:MacKenzie Croley \, 502-852-2173\, email:writing@louisville.edu
DESCRIPTION:Need some accountability, a zen space, and some caffeine to get
  writing done? Consider joining the University Writing Center’s Graduate
  Student Writing Group on Fridays from 3-4 p.m. in Ekstrom 132 or on Teams
 . All dissertation and thesis writers are welcome. The group will be hoste
 d by Assistant Director MacKenzie Croley who will offer writing motivation
 , help you set daily writing goals, and troubleshoot writing problems. Joi
 n any time: no commitment necessary. 
URL:https://events.stage.louisville.edu/events/graduate-student-writing-gro
 up-2/2026-04-17
END:VEVENT
BEGIN:VEVENT
UID:bbbbf133-47bf-4e27-832b-a8c9028ec871@events.stage.louisville.edu
DTSTAMP:20260423T094303Z
DTSTART:20260424T190000Z
DTEND:20260424T200000Z
SUMMARY:Graduate Student Writing Group
CONTACT:MacKenzie Croley \, 502-852-2173\, email:writing@louisville.edu
DESCRIPTION:Need some accountability, a zen space, and some caffeine to get
  writing done? Consider joining the University Writing Center’s Graduate
  Student Writing Group on Fridays from 3-4 p.m. in Ekstrom 132 or on Teams
 . All dissertation and thesis writers are welcome. The group will be hoste
 d by Assistant Director MacKenzie Croley who will offer writing motivation
 , help you set daily writing goals, and troubleshoot writing problems. Joi
 n any time: no commitment necessary. 
URL:https://events.stage.louisville.edu/events/graduate-student-writing-gro
 up-2/2026-04-24
END:VEVENT
END:VCALENDAR