BEGIN:VCALENDAR
VERSION:2.0
PRODID:-//Drupal//recurring_events_ical//2.0//EN
BEGIN:VEVENT
UID:1de515eb-f3dd-49a7-b83c-018ba757406b@events.stage.louisville.edu
DTSTAMP:20260422T193337Z
DTSTART:20260109T210000Z
DTEND:20260109T220000Z
SUMMARY:Creative Writing Group: Coalition of Advanced Writers
CONTACT:Carrie Callahan\, 502-852-2173\, email:writing@louisville.edu
DESCRIPTION:Serious about your creative writing? Looking for a group to off
 er solid feedback on your work in progress? Come to CAW! We meet twice a m
 onth to offer critique and community.
URL:https://events.stage.louisville.edu/events/creative-writing-group-coali
 tion-advanced-writers-0/2026-01-09
END:VEVENT
BEGIN:VEVENT
UID:d4a5bbec-cd63-4572-a50e-00b17cb728a6@events.stage.louisville.edu
DTSTAMP:20260422T193334Z
DTSTART:20260123T210000Z
DTEND:20260123T220000Z
SUMMARY:Creative Writing Group: Coalition of Advanced Writers
CONTACT:Carrie Callahan\, 502-852-2173\, email:writing@louisville.edu
DESCRIPTION:Serious about your creative writing? Looking for a group to off
 er solid feedback on your work in progress? Come to CAW! We meet twice a m
 onth to offer critique and community.
URL:https://events.stage.louisville.edu/events/creative-writing-group-coali
 tion-advanced-writers-0/2026-01-23
END:VEVENT
BEGIN:VEVENT
UID:5005257e-d752-4db2-b224-54af2a840470@events.stage.louisville.edu
DTSTAMP:20260422T193330Z
DTSTART:20260130T210000Z
DTEND:20260130T220000Z
SUMMARY:Creative Writing Group: Coalition of Advanced Writers
CONTACT:Carrie Callahan\, 502-852-2173\, email:writing@louisville.edu
DESCRIPTION:Serious about your creative writing? Looking for a group to off
 er solid feedback on your work in progress? Come to CAW! We meet twice a m
 onth to offer critique and community.
URL:https://events.stage.louisville.edu/events/creative-writing-group-coali
 tion-advanced-writers-0/2026-01-30
END:VEVENT
BEGIN:VEVENT
UID:1ac6c8c1-f82a-4188-93af-55511f96e394@events.stage.louisville.edu
DTSTAMP:20260422T193325Z
DTSTART:20260213T210000Z
DTEND:20260213T220000Z
SUMMARY:Creative Writing Group: Coalition of Advanced Writers
CONTACT:Carrie Callahan\, 502-852-2173\, email:writing@louisville.edu
DESCRIPTION:Serious about your creative writing? Looking for a group to off
 er solid feedback on your work in progress? Come to CAW! We meet twice a m
 onth to offer critique and community.
URL:https://events.stage.louisville.edu/events/creative-writing-group-coali
 tion-advanced-writers-0/2026-02-13
END:VEVENT
BEGIN:VEVENT
UID:1ffccb29-9e46-4502-a9f6-59949819466b@events.stage.louisville.edu
DTSTAMP:20260422T193321Z
DTSTART:20260227T210000Z
DTEND:20260227T220000Z
SUMMARY:Creative Writing Group: Coalition of Advanced Writers
CONTACT:Carrie Callahan\, 502-852-2173\, email:writing@louisville.edu
DESCRIPTION:Serious about your creative writing? Looking for a group to off
 er solid feedback on your work in progress? Come to CAW! We meet twice a m
 onth to offer critique and community.
URL:https://events.stage.louisville.edu/events/creative-writing-group-coali
 tion-advanced-writers-0/2026-02-27
END:VEVENT
BEGIN:VEVENT
UID:4dd9a8bd-3ee2-45a7-a741-261dbe01df11@events.stage.louisville.edu
DTSTAMP:20260422T163451Z
DTSTART:20260327T200000Z
DTEND:20260327T210000Z
SUMMARY:Creative Writing Group: Coalition of Advanced Writers
CONTACT:Carrie Callahan\, 502-852-2173\, email:writing@louisville.edu
DESCRIPTION:Serious about your creative writing? Looking for a group to off
 er solid feedback on your work in progress? Come to CAW! We meet twice a m
 onth to offer critique and community.
URL:https://events.stage.louisville.edu/events/creative-writing-group-coali
 tion-advanced-writers-0/2026-03-27
END:VEVENT
BEGIN:VEVENT
UID:493c8853-4ceb-4d3d-8d68-7405c825ea8c@events.stage.louisville.edu
DTSTAMP:20260422T202909Z
DTSTART:20260410T200000Z
DTEND:20260410T210000Z
SUMMARY:Creative Writing Group: Coalition of Advanced Writers
CONTACT:Carrie Callahan\, 502-852-2173\, email:writing@louisville.edu
DESCRIPTION:Serious about your creative writing? Looking for a group to off
 er solid feedback on your work in progress? Come to CAW! We meet twice a m
 onth to offer critique and community.
URL:https://events.stage.louisville.edu/events/creative-writing-group-coali
 tion-advanced-writers-0/2026-04-10
END:VEVENT
BEGIN:VEVENT
UID:b4a657ef-2102-43e1-b530-4c7e4e796a9a@events.stage.louisville.edu
DTSTAMP:20260423T093801Z
DTSTART:20260424T200000Z
DTEND:20260424T210000Z
SUMMARY:Creative Writing Group: Coalition of Advanced Writers
CONTACT:Carrie Callahan\, 502-852-2173\, email:writing@louisville.edu
DESCRIPTION:Serious about your creative writing? Looking for a group to off
 er solid feedback on your work in progress? Come to CAW! We meet twice a m
 onth to offer critique and community.
URL:https://events.stage.louisville.edu/events/creative-writing-group-coali
 tion-advanced-writers-0/2026-04-24
END:VEVENT
END:VCALENDAR