BEGIN:VCALENDAR
VERSION:2.0
PRODID:-//Drupal//recurring_events_ical//2.0//EN
BEGIN:VEVENT
UID:cab4aeee-6a8a-482d-8d0b-fefad3abfb00@events.stage.louisville.edu
DTSTAMP:20260422T162154Z
DTSTART:20260305T230000Z
DTEND:20260306T020000Z
SUMMARY:Project Management - Practical Applications
CONTACT:Manuela Perri\, 502-852-4821\, email:manuela.perri@louisville.edu
DESCRIPTION:his is the 2nd course in the UofL Project Managment Certificate
  Program and focuses on the practical application and best practices of th
 e project management processes outlined in the Project Management Institut
 e's A Guide to the Project Management Body of Knowledge® (PMBOK).  For b
 eginners, we highly recommend you take "Fundamentals of Project Management
 " first, but is you are already familiar with Project Management principle
 s and implementing some Project Management concepts already, this is a goo
 d fit for you.\n\nThis course moves beyond the abstract theory of Project 
 Management and addresses real-world application in the workplace. In this 
 program, you will solve project management problems and practice the power
 ful tools that will be immediately useful in your work. Working with your 
 classmates , you will tackle a real project, generate solutions, execute y
 our plan, and get immediate feedback from your peers and instructors. Thes
 e hands-on learning experiences with real business challenges will challen
 ge you and equip you to apply what you learn at work.\n\nContact Manuela P
 erri at manuela.perri for UofL Fac, Staff, and Alumni discount codes.
URL:https://events.stage.louisville.edu/events/project-management-practical
 -applications/2026-03-05
END:VEVENT
BEGIN:VEVENT
UID:5c29701e-864a-4a3a-a1c8-6039d404157e@events.stage.louisville.edu
DTSTAMP:20260422T161714Z
DTSTART:20260312T220000Z
DTEND:20260313T010000Z
SUMMARY:Project Management - Practical Applications
CONTACT:Manuela Perri\, 502-852-4821\, email:manuela.perri@louisville.edu
DESCRIPTION:his is the 2nd course in the UofL Project Managment Certificate
  Program and focuses on the practical application and best practices of th
 e project management processes outlined in the Project Management Institut
 e's A Guide to the Project Management Body of Knowledge® (PMBOK).  For b
 eginners, we highly recommend you take "Fundamentals of Project Management
 " first, but is you are already familiar with Project Management principle
 s and implementing some Project Management concepts already, this is a goo
 d fit for you.\n\nThis course moves beyond the abstract theory of Project 
 Management and addresses real-world application in the workplace. In this 
 program, you will solve project management problems and practice the power
 ful tools that will be immediately useful in your work. Working with your 
 classmates , you will tackle a real project, generate solutions, execute y
 our plan, and get immediate feedback from your peers and instructors. Thes
 e hands-on learning experiences with real business challenges will challen
 ge you and equip you to apply what you learn at work.\n\nContact Manuela P
 erri at manuela.perri for UofL Fac, Staff, and Alumni discount codes.
URL:https://events.stage.louisville.edu/events/project-management-practical
 -applications/2026-03-12
END:VEVENT
BEGIN:VEVENT
UID:3e1542bd-6b96-4f22-aa3d-b85e478a6666@events.stage.louisville.edu
DTSTAMP:20260422T161715Z
DTSTART:20260319T220000Z
DTEND:20260320T010000Z
SUMMARY:Project Management - Practical Applications
CONTACT:Manuela Perri\, 502-852-4821\, email:manuela.perri@louisville.edu
DESCRIPTION:his is the 2nd course in the UofL Project Managment Certificate
  Program and focuses on the practical application and best practices of th
 e project management processes outlined in the Project Management Institut
 e's A Guide to the Project Management Body of Knowledge® (PMBOK).  For b
 eginners, we highly recommend you take "Fundamentals of Project Management
 " first, but is you are already familiar with Project Management principle
 s and implementing some Project Management concepts already, this is a goo
 d fit for you.\n\nThis course moves beyond the abstract theory of Project 
 Management and addresses real-world application in the workplace. In this 
 program, you will solve project management problems and practice the power
 ful tools that will be immediately useful in your work. Working with your 
 classmates , you will tackle a real project, generate solutions, execute y
 our plan, and get immediate feedback from your peers and instructors. Thes
 e hands-on learning experiences with real business challenges will challen
 ge you and equip you to apply what you learn at work.\n\nContact Manuela P
 erri at manuela.perri for UofL Fac, Staff, and Alumni discount codes.
URL:https://events.stage.louisville.edu/events/project-management-practical
 -applications/2026-03-19
END:VEVENT
BEGIN:VEVENT
UID:06ee76c7-199a-43c0-9245-4fe8efb89c27@events.stage.louisville.edu
DTSTAMP:20260422T161716Z
DTSTART:20260326T220000Z
DTEND:20260327T010000Z
SUMMARY:Project Management - Practical Applications
CONTACT:Manuela Perri\, 502-852-4821\, email:manuela.perri@louisville.edu
DESCRIPTION:his is the 2nd course in the UofL Project Managment Certificate
  Program and focuses on the practical application and best practices of th
 e project management processes outlined in the Project Management Institut
 e's A Guide to the Project Management Body of Knowledge® (PMBOK).  For b
 eginners, we highly recommend you take "Fundamentals of Project Management
 " first, but is you are already familiar with Project Management principle
 s and implementing some Project Management concepts already, this is a goo
 d fit for you.\n\nThis course moves beyond the abstract theory of Project 
 Management and addresses real-world application in the workplace. In this 
 program, you will solve project management problems and practice the power
 ful tools that will be immediately useful in your work. Working with your 
 classmates , you will tackle a real project, generate solutions, execute y
 our plan, and get immediate feedback from your peers and instructors. Thes
 e hands-on learning experiences with real business challenges will challen
 ge you and equip you to apply what you learn at work.\n\nContact Manuela P
 erri at manuela.perri for UofL Fac, Staff, and Alumni discount codes.
URL:https://events.stage.louisville.edu/events/project-management-practical
 -applications/2026-03-26
END:VEVENT
BEGIN:VEVENT
UID:b64ae3a1-f089-4afb-9337-ff834547750c@events.stage.louisville.edu
DTSTAMP:20260422T202855Z
DTSTART:20260402T220000Z
DTEND:20260403T010000Z
SUMMARY:Project Management - Practical Applications
CONTACT:Manuela Perri\, 502-852-4821\, email:manuela.perri@louisville.edu
DESCRIPTION:his is the 2nd course in the UofL Project Managment Certificate
  Program and focuses on the practical application and best practices of th
 e project management processes outlined in the Project Management Institut
 e's A Guide to the Project Management Body of Knowledge® (PMBOK).  For b
 eginners, we highly recommend you take "Fundamentals of Project Management
 " first, but is you are already familiar with Project Management principle
 s and implementing some Project Management concepts already, this is a goo
 d fit for you.\n\nThis course moves beyond the abstract theory of Project 
 Management and addresses real-world application in the workplace. In this 
 program, you will solve project management problems and practice the power
 ful tools that will be immediately useful in your work. Working with your 
 classmates , you will tackle a real project, generate solutions, execute y
 our plan, and get immediate feedback from your peers and instructors. Thes
 e hands-on learning experiences with real business challenges will challen
 ge you and equip you to apply what you learn at work.\n\nContact Manuela P
 erri at manuela.perri for UofL Fac, Staff, and Alumni discount codes.
URL:https://events.stage.louisville.edu/events/project-management-practical
 -applications/2026-04-02
END:VEVENT
BEGIN:VEVENT
UID:8df3718a-82f7-47bc-a060-a357102acb01@events.stage.louisville.edu
DTSTAMP:20260422T202903Z
DTSTART:20260409T220000Z
DTEND:20260410T010000Z
SUMMARY:Project Management - Practical Applications
CONTACT:Manuela Perri\, 502-852-4821\, email:manuela.perri@louisville.edu
DESCRIPTION:his is the 2nd course in the UofL Project Managment Certificate
  Program and focuses on the practical application and best practices of th
 e project management processes outlined in the Project Management Institut
 e's A Guide to the Project Management Body of Knowledge® (PMBOK).  For b
 eginners, we highly recommend you take "Fundamentals of Project Management
 " first, but is you are already familiar with Project Management principle
 s and implementing some Project Management concepts already, this is a goo
 d fit for you.\n\nThis course moves beyond the abstract theory of Project 
 Management and addresses real-world application in the workplace. In this 
 program, you will solve project management problems and practice the power
 ful tools that will be immediately useful in your work. Working with your 
 classmates , you will tackle a real project, generate solutions, execute y
 our plan, and get immediate feedback from your peers and instructors. Thes
 e hands-on learning experiences with real business challenges will challen
 ge you and equip you to apply what you learn at work.\n\nContact Manuela P
 erri at manuela.perri for UofL Fac, Staff, and Alumni discount codes.
URL:https://events.stage.louisville.edu/events/project-management-practical
 -applications/2026-04-09
END:VEVENT
BEGIN:VEVENT
UID:c6248286-a1e5-4ecf-bb79-340b338e2818@events.stage.louisville.edu
DTSTAMP:20260422T161720Z
DTSTART:20260416T220000Z
DTEND:20260417T010000Z
SUMMARY:Project Management - Practical Applications
CONTACT:Manuela Perri\, 502-852-4821\, email:manuela.perri@louisville.edu
DESCRIPTION:his is the 2nd course in the UofL Project Managment Certificate
  Program and focuses on the practical application and best practices of th
 e project management processes outlined in the Project Management Institut
 e's A Guide to the Project Management Body of Knowledge® (PMBOK).  For b
 eginners, we highly recommend you take "Fundamentals of Project Management
 " first, but is you are already familiar with Project Management principle
 s and implementing some Project Management concepts already, this is a goo
 d fit for you.\n\nThis course moves beyond the abstract theory of Project 
 Management and addresses real-world application in the workplace. In this 
 program, you will solve project management problems and practice the power
 ful tools that will be immediately useful in your work. Working with your 
 classmates , you will tackle a real project, generate solutions, execute y
 our plan, and get immediate feedback from your peers and instructors. Thes
 e hands-on learning experiences with real business challenges will challen
 ge you and equip you to apply what you learn at work.\n\nContact Manuela P
 erri at manuela.perri for UofL Fac, Staff, and Alumni discount codes.
URL:https://events.stage.louisville.edu/events/project-management-practical
 -applications/2026-04-16
END:VEVENT
BEGIN:VEVENT
UID:fa9337a7-eac7-4e26-9a2d-36e8f56c4e95@events.stage.louisville.edu
DTSTAMP:20260423T095707Z
DTSTART:20260423T220000Z
DTEND:20260424T010000Z
SUMMARY:Project Management - Practical Applications
CONTACT:Manuela Perri\, 502-852-4821\, email:manuela.perri@louisville.edu
DESCRIPTION:his is the 2nd course in the UofL Project Managment Certificate
  Program and focuses on the practical application and best practices of th
 e project management processes outlined in the Project Management Institut
 e's A Guide to the Project Management Body of Knowledge® (PMBOK).  For b
 eginners, we highly recommend you take "Fundamentals of Project Management
 " first, but is you are already familiar with Project Management principle
 s and implementing some Project Management concepts already, this is a goo
 d fit for you.\n\nThis course moves beyond the abstract theory of Project 
 Management and addresses real-world application in the workplace. In this 
 program, you will solve project management problems and practice the power
 ful tools that will be immediately useful in your work. Working with your 
 classmates , you will tackle a real project, generate solutions, execute y
 our plan, and get immediate feedback from your peers and instructors. Thes
 e hands-on learning experiences with real business challenges will challen
 ge you and equip you to apply what you learn at work.\n\nContact Manuela P
 erri at manuela.perri for UofL Fac, Staff, and Alumni discount codes.
URL:https://events.stage.louisville.edu/events/project-management-practical
 -applications/2026-04-23
END:VEVENT
BEGIN:VEVENT
UID:beb0f1c1-7860-411b-b8b3-d5abcef9a025@events.stage.louisville.edu
DTSTAMP:20260423T075545Z
DTSTART:20260430T220000Z
DTEND:20260501T010000Z
SUMMARY:Project Management - Practical Applications
CONTACT:Manuela Perri\, 502-852-4821\, email:manuela.perri@louisville.edu
DESCRIPTION:his is the 2nd course in the UofL Project Managment Certificate
  Program and focuses on the practical application and best practices of th
 e project management processes outlined in the Project Management Institut
 e's A Guide to the Project Management Body of Knowledge® (PMBOK).  For b
 eginners, we highly recommend you take "Fundamentals of Project Management
 " first, but is you are already familiar with Project Management principle
 s and implementing some Project Management concepts already, this is a goo
 d fit for you.\n\nThis course moves beyond the abstract theory of Project 
 Management and addresses real-world application in the workplace. In this 
 program, you will solve project management problems and practice the power
 ful tools that will be immediately useful in your work. Working with your 
 classmates , you will tackle a real project, generate solutions, execute y
 our plan, and get immediate feedback from your peers and instructors. Thes
 e hands-on learning experiences with real business challenges will challen
 ge you and equip you to apply what you learn at work.\n\nContact Manuela P
 erri at manuela.perri for UofL Fac, Staff, and Alumni discount codes.
URL:https://events.stage.louisville.edu/events/project-management-practical
 -applications/2026-04-30
END:VEVENT
BEGIN:VEVENT
UID:b84ec5ee-ab3d-4a5e-b2b4-44f656890f0e@events.stage.louisville.edu
DTSTAMP:20260423T075546Z
DTSTART:20260507T220000Z
DTEND:20260508T010000Z
SUMMARY:Project Management - Practical Applications
CONTACT:Manuela Perri\, 502-852-4821\, email:manuela.perri@louisville.edu
DESCRIPTION:his is the 2nd course in the UofL Project Managment Certificate
  Program and focuses on the practical application and best practices of th
 e project management processes outlined in the Project Management Institut
 e's A Guide to the Project Management Body of Knowledge® (PMBOK).  For b
 eginners, we highly recommend you take "Fundamentals of Project Management
 " first, but is you are already familiar with Project Management principle
 s and implementing some Project Management concepts already, this is a goo
 d fit for you.\n\nThis course moves beyond the abstract theory of Project 
 Management and addresses real-world application in the workplace. In this 
 program, you will solve project management problems and practice the power
 ful tools that will be immediately useful in your work. Working with your 
 classmates , you will tackle a real project, generate solutions, execute y
 our plan, and get immediate feedback from your peers and instructors. Thes
 e hands-on learning experiences with real business challenges will challen
 ge you and equip you to apply what you learn at work.\n\nContact Manuela P
 erri at manuela.perri for UofL Fac, Staff, and Alumni discount codes.
URL:https://events.stage.louisville.edu/events/project-management-practical
 -applications/2026-05-07
END:VEVENT
BEGIN:VEVENT
UID:e67d7419-79fb-4cb5-a007-277d088e6afa@events.stage.louisville.edu
DTSTAMP:20260423T093718Z
DTSTART:20260514T220000Z
DTEND:20260515T010000Z
SUMMARY:Project Management - Practical Applications
CONTACT:Manuela Perri\, 502-852-4821\, email:manuela.perri@louisville.edu
DESCRIPTION:his is the 2nd course in the UofL Project Managment Certificate
  Program and focuses on the practical application and best practices of th
 e project management processes outlined in the Project Management Institut
 e's A Guide to the Project Management Body of Knowledge® (PMBOK).  For b
 eginners, we highly recommend you take "Fundamentals of Project Management
 " first, but is you are already familiar with Project Management principle
 s and implementing some Project Management concepts already, this is a goo
 d fit for you.\n\nThis course moves beyond the abstract theory of Project 
 Management and addresses real-world application in the workplace. In this 
 program, you will solve project management problems and practice the power
 ful tools that will be immediately useful in your work. Working with your 
 classmates , you will tackle a real project, generate solutions, execute y
 our plan, and get immediate feedback from your peers and instructors. Thes
 e hands-on learning experiences with real business challenges will challen
 ge you and equip you to apply what you learn at work.\n\nContact Manuela P
 erri at manuela.perri for UofL Fac, Staff, and Alumni discount codes.
URL:https://events.stage.louisville.edu/events/project-management-practical
 -applications/2026-05-14
END:VEVENT
BEGIN:VEVENT
UID:4d227ef9-ea93-4865-a376-bc86edc4cbca@events.stage.louisville.edu
DTSTAMP:20260423T093718Z
DTSTART:20260521T220000Z
DTEND:20260522T010000Z
SUMMARY:Project Management - Practical Applications
CONTACT:Manuela Perri\, 502-852-4821\, email:manuela.perri@louisville.edu
DESCRIPTION:his is the 2nd course in the UofL Project Managment Certificate
  Program and focuses on the practical application and best practices of th
 e project management processes outlined in the Project Management Institut
 e's A Guide to the Project Management Body of Knowledge® (PMBOK).  For b
 eginners, we highly recommend you take "Fundamentals of Project Management
 " first, but is you are already familiar with Project Management principle
 s and implementing some Project Management concepts already, this is a goo
 d fit for you.\n\nThis course moves beyond the abstract theory of Project 
 Management and addresses real-world application in the workplace. In this 
 program, you will solve project management problems and practice the power
 ful tools that will be immediately useful in your work. Working with your 
 classmates , you will tackle a real project, generate solutions, execute y
 our plan, and get immediate feedback from your peers and instructors. Thes
 e hands-on learning experiences with real business challenges will challen
 ge you and equip you to apply what you learn at work.\n\nContact Manuela P
 erri at manuela.perri for UofL Fac, Staff, and Alumni discount codes.
URL:https://events.stage.louisville.edu/events/project-management-practical
 -applications/2026-05-21
END:VEVENT
BEGIN:VEVENT
UID:ca67d1d4-f2a1-4a3f-9e63-9fbba2df7489@events.stage.louisville.edu
DTSTAMP:20260423T093718Z
DTSTART:20260528T220000Z
DTEND:20260529T010000Z
SUMMARY:Project Management - Practical Applications
CONTACT:Manuela Perri\, 502-852-4821\, email:manuela.perri@louisville.edu
DESCRIPTION:his is the 2nd course in the UofL Project Managment Certificate
  Program and focuses on the practical application and best practices of th
 e project management processes outlined in the Project Management Institut
 e's A Guide to the Project Management Body of Knowledge® (PMBOK).  For b
 eginners, we highly recommend you take "Fundamentals of Project Management
 " first, but is you are already familiar with Project Management principle
 s and implementing some Project Management concepts already, this is a goo
 d fit for you.\n\nThis course moves beyond the abstract theory of Project 
 Management and addresses real-world application in the workplace. In this 
 program, you will solve project management problems and practice the power
 ful tools that will be immediately useful in your work. Working with your 
 classmates , you will tackle a real project, generate solutions, execute y
 our plan, and get immediate feedback from your peers and instructors. Thes
 e hands-on learning experiences with real business challenges will challen
 ge you and equip you to apply what you learn at work.\n\nContact Manuela P
 erri at manuela.perri for UofL Fac, Staff, and Alumni discount codes.
URL:https://events.stage.louisville.edu/events/project-management-practical
 -applications/2026-05-28
END:VEVENT
END:VCALENDAR