BEGIN:VCALENDAR
VERSION:2.0
PRODID:-//Drupal//recurring_events_ical//2.0//EN
BEGIN:VEVENT
UID:b67a047e-3bbe-49cd-b7e2-996abd73a9a1@events.stage.louisville.edu
DTSTAMP:20260423T200826Z
DTSTART:20260218T210000Z
DTEND:20260218T230000Z
SUMMARY:Spring Bike Repair Workshop Series
CONTACT:Tyler Wood\, 618-240-4815\, email:tyler.wood.2@louisville.edu
DESCRIPTION:Alternate Wednesdays, Feb. 18th to April 1st, 4-6pm\nUofL Bike 
 Shop (basement of the UPA Building, 426 W Bloom St.)\nWant to learn how to
  fix and maintain your bike to keep it rolling as the spring weather warms
 ? Join us for a free spring series of hands-on workshops focused on differ
 ent topics every other Wednesday from 4-6pm! Workshops will be held at the
  UofL Bike Shop in the basement of the Urban & Public Affairs building (42
 6 W. Bloom St.).You do not need to be present for each session, and you're
  welcome to drop-in any time from 4-6pm. Our goal is to teach how to fix s
 ome specific issues then to allow participants to really practice their sk
 ills on multiple bikes! Please sign-up here if you are interested in parti
 cipating.\n\nOur planned sessions will be:\n\n\n	Feb. 18 - Wheels and Tire
 s\n	March 4 - Brakes and Cables\n	March 18 - Chains and Derailleurs \n	Ap
 ril 1 - Grips n' Stuff (small parts)\n\n\nWe are also offering regular Sho
 p Hours every Monday and Wednesday from noon-2pm if you have a bike that n
 eeds repair, please come in and you'll be able to access tools and guidanc
 e from our experienced mechanics!
GEO:38.2220;-85.7639
LOCATION:Urban Studies Institute
URL:https://events.stage.louisville.edu/events/spring-bike-repair-workshop-
 series/2026-02-18
END:VEVENT
BEGIN:VEVENT
UID:0c6f2632-4170-491e-aa86-16eafad01073@events.stage.louisville.edu
DTSTAMP:20260423T200827Z
DTSTART:20260304T210000Z
DTEND:20260304T230000Z
SUMMARY:Spring Bike Repair Workshop Series
CONTACT:Tyler Wood\, 618-240-4815\, email:tyler.wood.2@louisville.edu
DESCRIPTION:Alternate Wednesdays, Feb. 18th to April 1st, 4-6pm\nUofL Bike 
 Shop (basement of the UPA Building, 426 W Bloom St.)\nWant to learn how to
  fix and maintain your bike to keep it rolling as the spring weather warms
 ? Join us for a free spring series of hands-on workshops focused on differ
 ent topics every other Wednesday from 4-6pm! Workshops will be held at the
  UofL Bike Shop in the basement of the Urban & Public Affairs building (42
 6 W. Bloom St.).You do not need to be present for each session, and you're
  welcome to drop-in any time from 4-6pm. Our goal is to teach how to fix s
 ome specific issues then to allow participants to really practice their sk
 ills on multiple bikes! Please sign-up here if you are interested in parti
 cipating.\n\nOur planned sessions will be:\n\n\n	Feb. 18 - Wheels and Tire
 s\n	March 4 - Brakes and Cables\n	March 18 - Chains and Derailleurs \n	Ap
 ril 1 - Grips n' Stuff (small parts)\n\n\nWe are also offering regular Sho
 p Hours every Monday and Wednesday from noon-2pm if you have a bike that n
 eeds repair, please come in and you'll be able to access tools and guidanc
 e from our experienced mechanics!
GEO:38.2220;-85.7639
LOCATION:Urban Studies Institute
URL:https://events.stage.louisville.edu/events/spring-bike-repair-workshop-
 series/2026-03-04
END:VEVENT
BEGIN:VEVENT
UID:d7efe4e2-6829-4362-91ee-c1792351d155@events.stage.louisville.edu
DTSTAMP:20260423T200826Z
DTSTART:20260318T200000Z
DTEND:20260318T220000Z
SUMMARY:Spring Bike Repair Workshop Series
CONTACT:Tyler Wood\, 618-240-4815\, email:tyler.wood.2@louisville.edu
DESCRIPTION:Alternate Wednesdays, Feb. 18th to April 1st, 4-6pm\nUofL Bike 
 Shop (basement of the UPA Building, 426 W Bloom St.)\nWant to learn how to
  fix and maintain your bike to keep it rolling as the spring weather warms
 ? Join us for a free spring series of hands-on workshops focused on differ
 ent topics every other Wednesday from 4-6pm! Workshops will be held at the
  UofL Bike Shop in the basement of the Urban & Public Affairs building (42
 6 W. Bloom St.).You do not need to be present for each session, and you're
  welcome to drop-in any time from 4-6pm. Our goal is to teach how to fix s
 ome specific issues then to allow participants to really practice their sk
 ills on multiple bikes! Please sign-up here if you are interested in parti
 cipating.\n\nOur planned sessions will be:\n\n\n	Feb. 18 - Wheels and Tire
 s\n	March 4 - Brakes and Cables\n	March 18 - Chains and Derailleurs \n	Ap
 ril 1 - Grips n' Stuff (small parts)\n\n\nWe are also offering regular Sho
 p Hours every Monday and Wednesday from noon-2pm if you have a bike that n
 eeds repair, please come in and you'll be able to access tools and guidanc
 e from our experienced mechanics!
GEO:38.2220;-85.7639
LOCATION:Urban Studies Institute
URL:https://events.stage.louisville.edu/events/spring-bike-repair-workshop-
 series/2026-03-18
END:VEVENT
BEGIN:VEVENT
UID:25f82638-277b-4aa0-a4a0-52c3615b33e6@events.stage.louisville.edu
DTSTAMP:20260423T170825Z
DTSTART:20260401T200000Z
DTEND:20260401T220000Z
SUMMARY:Spring Bike Repair Workshop Series
CONTACT:Tyler Wood\, 618-240-4815\, email:tyler.wood.2@louisville.edu
DESCRIPTION:Alternate Wednesdays, Feb. 18th to April 1st, 4-6pm\nUofL Bike 
 Shop (basement of the UPA Building, 426 W Bloom St.)\nWant to learn how to
  fix and maintain your bike to keep it rolling as the spring weather warms
 ? Join us for a free spring series of hands-on workshops focused on differ
 ent topics every other Wednesday from 4-6pm! Workshops will be held at the
  UofL Bike Shop in the basement of the Urban & Public Affairs building (42
 6 W. Bloom St.).You do not need to be present for each session, and you're
  welcome to drop-in any time from 4-6pm. Our goal is to teach how to fix s
 ome specific issues then to allow participants to really practice their sk
 ills on multiple bikes! Please sign-up here if you are interested in parti
 cipating.\n\nOur planned sessions will be:\n\n\n	Feb. 18 - Wheels and Tire
 s\n	March 4 - Brakes and Cables\n	March 18 - Chains and Derailleurs \n	Ap
 ril 1 - Grips n' Stuff (small parts)\n\n\nWe are also offering regular Sho
 p Hours every Monday and Wednesday from noon-2pm if you have a bike that n
 eeds repair, please come in and you'll be able to access tools and guidanc
 e from our experienced mechanics!
GEO:38.2220;-85.7639
LOCATION:Urban Studies Institute
URL:https://events.stage.louisville.edu/events/spring-bike-repair-workshop-
 series/2026-04-01
END:VEVENT
END:VCALENDAR