BEGIN:VCALENDAR
VERSION:2.0
PRODID:-//Drupal//recurring_events_ical//2.0//EN
BEGIN:VEVENT
UID:faa86c84-4bf1-491a-8c77-0e40f47b6795@events.stage.louisville.edu
DTSTAMP:20260423T143601Z
DTSTART:20260305T150000Z
DTEND:20260305T161500Z
SUMMARY:Health Sciences Campus (HSC) Tour Sign-up
CONTACT:Employee Success Center\, Employeesuccess@louisville.edu\, email:em
 ployeesuccess@louisville.edu
DESCRIPTION:Join us and discover all the new and exciting things that the H
 ealth Sciences Campus has to offer!  \n\nSpace is limited so sign up earl
 y!  Tours begin at 10:00 a.m. (unless otherwise noted) in the Abell Admin
 istration Center, 1st floor foyer, 323 East Chestnut Street. Enter the bui
 lding on the east or west side by using your UofL I.D. or call Bonnie at
  550-3928 for access.The tour will take approximately 1 hour and 15 minute
 s depending on the size of the group. \n\nThere is metered parking on the
  Floyd Street and Chestnut Street sides of the Abell Administration Center
 . \n\nFacilitated by: Bonnie Dean, Coordinator, Office of Communications 
 and Marketing\n\nRegister Here! 
GEO:38.2484;-85.7484
LOCATION:Abell Administration Center
URL:https://events.stage.louisville.edu/events/health-sciences-campus-hsc-t
 our-sign-8/2026-03-05
END:VEVENT
END:VCALENDAR