BEGIN:VCALENDAR
VERSION:2.0
PRODID:-//Drupal//recurring_events_ical//2.0//EN
BEGIN:VEVENT
UID:60f9be94-d1aa-4da6-bc43-75dc4d4a9316@events.stage.louisville.edu
DTSTAMP:20260422T161743Z
DTSTART:20260401T190000Z
DTEND:20260401T194500Z
SUMMARY:Ask the Grantwriting Expert Q&A
CONTACT:Cecilia Peredo\, 502-852-2496\, email:resdevel@louisville.edu
DESCRIPTION:Do you have questions about your NIH grant application? Did you
  learn something in our grantwriting courses about which you’d like more
  information?\n\nNow’s your chance to get 1:1 feedback!\n\nEvery other W
 ednesday at 3pm ET, you can join Meg Bouvier PhD live. Come and go from th
 e call whenever you’d like, ask questions, and learn as Meg answers othe
 r people’s questions.\n\nThese sessions often include mini-tutorials on 
 grantwriting topics of interest. In addition, on select weeks, she will in
 vite a colleague to share their expertise.\n\nFor 45 minutes, you can quiz
  Meg about your biggest challenges and questions. On select weeks, she wil
 l invite a grantwriting colleagues to join her in fielding your toughest q
 uestions.
URL:https://events.stage.louisville.edu/events/ask-grantwriting-expert-qa/2
 026-04-01
END:VEVENT
BEGIN:VEVENT
UID:a4ed4253-925b-43f4-b82b-eb51f3896368@events.stage.louisville.edu
DTSTAMP:20260422T161745Z
DTSTART:20260415T190000Z
DTEND:20260415T194500Z
SUMMARY:Ask the Grantwriting Expert Q&A
CONTACT:Cecilia Peredo\, 502-852-2496\, email:resdevel@louisville.edu
DESCRIPTION:Do you have questions about your NIH grant application? Did you
  learn something in our grantwriting courses about which you’d like more
  information?\n\nNow’s your chance to get 1:1 feedback!\n\nEvery other W
 ednesday at 3pm ET, you can join Meg Bouvier PhD live. Come and go from th
 e call whenever you’d like, ask questions, and learn as Meg answers othe
 r people’s questions.\n\nThese sessions often include mini-tutorials on 
 grantwriting topics of interest. In addition, on select weeks, she will in
 vite a colleague to share their expertise.\n\nFor 45 minutes, you can quiz
  Meg about your biggest challenges and questions. On select weeks, she wil
 l invite a grantwriting colleagues to join her in fielding your toughest q
 uestions.
URL:https://events.stage.louisville.edu/events/ask-grantwriting-expert-qa/2
 026-04-15
END:VEVENT
BEGIN:VEVENT
UID:f2507886-bc03-4451-901e-8dce68021b95@events.stage.louisville.edu
DTSTAMP:20260423T100234Z
DTSTART:20260429T190000Z
DTEND:20260429T194500Z
SUMMARY:Ask the Grantwriting Expert Q&A
CONTACT:Cecilia Peredo\, 502-852-2496\, email:resdevel@louisville.edu
DESCRIPTION:Do you have questions about your NIH grant application? Did you
  learn something in our grantwriting courses about which you’d like more
  information?\n\nNow’s your chance to get 1:1 feedback!\n\nEvery other W
 ednesday at 3pm ET, you can join Meg Bouvier PhD live. Come and go from th
 e call whenever you’d like, ask questions, and learn as Meg answers othe
 r people’s questions.\n\nThese sessions often include mini-tutorials on 
 grantwriting topics of interest. In addition, on select weeks, she will in
 vite a colleague to share their expertise.\n\nFor 45 minutes, you can quiz
  Meg about your biggest challenges and questions. On select weeks, she wil
 l invite a grantwriting colleagues to join her in fielding your toughest q
 uestions.
URL:https://events.stage.louisville.edu/events/ask-grantwriting-expert-qa/2
 026-04-29
END:VEVENT
BEGIN:VEVENT
UID:36ae2eb5-a6a3-41b7-a2da-a4ea1dcbbfca@events.stage.louisville.edu
DTSTAMP:20260423T122308Z
DTSTART:20260513T190000Z
DTEND:20260513T194500Z
SUMMARY:Ask the Grantwriting Expert Q&A
CONTACT:Cecilia Peredo\, 502-852-2496\, email:resdevel@louisville.edu
DESCRIPTION:Do you have questions about your NIH grant application? Did you
  learn something in our grantwriting courses about which you’d like more
  information?\n\nNow’s your chance to get 1:1 feedback!\n\nEvery other W
 ednesday at 3pm ET, you can join Meg Bouvier PhD live. Come and go from th
 e call whenever you’d like, ask questions, and learn as Meg answers othe
 r people’s questions.\n\nThese sessions often include mini-tutorials on 
 grantwriting topics of interest. In addition, on select weeks, she will in
 vite a colleague to share their expertise.\n\nFor 45 minutes, you can quiz
  Meg about your biggest challenges and questions. On select weeks, she wil
 l invite a grantwriting colleagues to join her in fielding your toughest q
 uestions.
URL:https://events.stage.louisville.edu/events/ask-grantwriting-expert-qa/2
 026-05-13
END:VEVENT
BEGIN:VEVENT
UID:70c8796b-7d84-401b-911b-fcec0276b061@events.stage.louisville.edu
DTSTAMP:20260423T122323Z
DTSTART:20260527T190000Z
DTEND:20260527T194500Z
SUMMARY:Ask the Grantwriting Expert Q&A
CONTACT:Cecilia Peredo\, 502-852-2496\, email:resdevel@louisville.edu
DESCRIPTION:Do you have questions about your NIH grant application? Did you
  learn something in our grantwriting courses about which you’d like more
  information?\n\nNow’s your chance to get 1:1 feedback!\n\nEvery other W
 ednesday at 3pm ET, you can join Meg Bouvier PhD live. Come and go from th
 e call whenever you’d like, ask questions, and learn as Meg answers othe
 r people’s questions.\n\nThese sessions often include mini-tutorials on 
 grantwriting topics of interest. In addition, on select weeks, she will in
 vite a colleague to share their expertise.\n\nFor 45 minutes, you can quiz
  Meg about your biggest challenges and questions. On select weeks, she wil
 l invite a grantwriting colleagues to join her in fielding your toughest q
 uestions.
URL:https://events.stage.louisville.edu/events/ask-grantwriting-expert-qa/2
 026-05-27
END:VEVENT
BEGIN:VEVENT
UID:b852c688-b692-4060-9fec-f990dcf34380@events.stage.louisville.edu
DTSTAMP:20260423T122311Z
DTSTART:20260610T190000Z
DTEND:20260610T194500Z
SUMMARY:Ask the Grantwriting Expert Q&A
CONTACT:Cecilia Peredo\, 502-852-2496\, email:resdevel@louisville.edu
DESCRIPTION:Do you have questions about your NIH grant application? Did you
  learn something in our grantwriting courses about which you’d like more
  information?\n\nNow’s your chance to get 1:1 feedback!\n\nEvery other W
 ednesday at 3pm ET, you can join Meg Bouvier PhD live. Come and go from th
 e call whenever you’d like, ask questions, and learn as Meg answers othe
 r people’s questions.\n\nThese sessions often include mini-tutorials on 
 grantwriting topics of interest. In addition, on select weeks, she will in
 vite a colleague to share their expertise.\n\nFor 45 minutes, you can quiz
  Meg about your biggest challenges and questions. On select weeks, she wil
 l invite a grantwriting colleagues to join her in fielding your toughest q
 uestions.
URL:https://events.stage.louisville.edu/events/ask-grantwriting-expert-qa/2
 026-06-10
END:VEVENT
BEGIN:VEVENT
UID:4f24fbb5-1b84-450c-a103-2884781fdf41@events.stage.louisville.edu
DTSTAMP:20260423T122310Z
DTSTART:20260624T190000Z
DTEND:20260624T194500Z
SUMMARY:Ask the Grantwriting Expert Q&A
CONTACT:Cecilia Peredo\, 502-852-2496\, email:resdevel@louisville.edu
DESCRIPTION:Do you have questions about your NIH grant application? Did you
  learn something in our grantwriting courses about which you’d like more
  information?\n\nNow’s your chance to get 1:1 feedback!\n\nEvery other W
 ednesday at 3pm ET, you can join Meg Bouvier PhD live. Come and go from th
 e call whenever you’d like, ask questions, and learn as Meg answers othe
 r people’s questions.\n\nThese sessions often include mini-tutorials on 
 grantwriting topics of interest. In addition, on select weeks, she will in
 vite a colleague to share their expertise.\n\nFor 45 minutes, you can quiz
  Meg about your biggest challenges and questions. On select weeks, she wil
 l invite a grantwriting colleagues to join her in fielding your toughest q
 uestions.
URL:https://events.stage.louisville.edu/events/ask-grantwriting-expert-qa/2
 026-06-24
END:VEVENT
BEGIN:VEVENT
UID:500246b4-c065-4374-bd91-7b4691d23110@events.stage.louisville.edu
DTSTAMP:20260423T122312Z
DTSTART:20260708T190000Z
DTEND:20260708T194500Z
SUMMARY:Ask the Grantwriting Expert Q&A
CONTACT:Cecilia Peredo\, 502-852-2496\, email:resdevel@louisville.edu
DESCRIPTION:Do you have questions about your NIH grant application? Did you
  learn something in our grantwriting courses about which you’d like more
  information?\n\nNow’s your chance to get 1:1 feedback!\n\nEvery other W
 ednesday at 3pm ET, you can join Meg Bouvier PhD live. Come and go from th
 e call whenever you’d like, ask questions, and learn as Meg answers othe
 r people’s questions.\n\nThese sessions often include mini-tutorials on 
 grantwriting topics of interest. In addition, on select weeks, she will in
 vite a colleague to share their expertise.\n\nFor 45 minutes, you can quiz
  Meg about your biggest challenges and questions. On select weeks, she wil
 l invite a grantwriting colleagues to join her in fielding your toughest q
 uestions.
URL:https://events.stage.louisville.edu/events/ask-grantwriting-expert-qa/2
 026-07-08
END:VEVENT
BEGIN:VEVENT
UID:7664096a-d136-417e-9c3e-e4b5f9871d47@events.stage.louisville.edu
DTSTAMP:20260423T122312Z
DTSTART:20260722T190000Z
DTEND:20260722T194500Z
SUMMARY:Ask the Grantwriting Expert Q&A
CONTACT:Cecilia Peredo\, 502-852-2496\, email:resdevel@louisville.edu
DESCRIPTION:Do you have questions about your NIH grant application? Did you
  learn something in our grantwriting courses about which you’d like more
  information?\n\nNow’s your chance to get 1:1 feedback!\n\nEvery other W
 ednesday at 3pm ET, you can join Meg Bouvier PhD live. Come and go from th
 e call whenever you’d like, ask questions, and learn as Meg answers othe
 r people’s questions.\n\nThese sessions often include mini-tutorials on 
 grantwriting topics of interest. In addition, on select weeks, she will in
 vite a colleague to share their expertise.\n\nFor 45 minutes, you can quiz
  Meg about your biggest challenges and questions. On select weeks, she wil
 l invite a grantwriting colleagues to join her in fielding your toughest q
 uestions.
URL:https://events.stage.louisville.edu/events/ask-grantwriting-expert-qa/2
 026-07-22
END:VEVENT
BEGIN:VEVENT
UID:5f76e46d-6489-4dc9-ae54-587604f03da7@events.stage.louisville.edu
DTSTAMP:20260423T122310Z
DTSTART:20260805T190000Z
DTEND:20260805T194500Z
SUMMARY:Ask the Grantwriting Expert Q&A
CONTACT:Cecilia Peredo\, 502-852-2496\, email:resdevel@louisville.edu
DESCRIPTION:Do you have questions about your NIH grant application? Did you
  learn something in our grantwriting courses about which you’d like more
  information?\n\nNow’s your chance to get 1:1 feedback!\n\nEvery other W
 ednesday at 3pm ET, you can join Meg Bouvier PhD live. Come and go from th
 e call whenever you’d like, ask questions, and learn as Meg answers othe
 r people’s questions.\n\nThese sessions often include mini-tutorials on 
 grantwriting topics of interest. In addition, on select weeks, she will in
 vite a colleague to share their expertise.\n\nFor 45 minutes, you can quiz
  Meg about your biggest challenges and questions. On select weeks, she wil
 l invite a grantwriting colleagues to join her in fielding your toughest q
 uestions.
URL:https://events.stage.louisville.edu/events/ask-grantwriting-expert-qa/2
 026-08-05
END:VEVENT
BEGIN:VEVENT
UID:0cd15696-7744-4e61-ac5e-7c7a8237aab0@events.stage.louisville.edu
DTSTAMP:20260423T122309Z
DTSTART:20260819T190000Z
DTEND:20260819T194500Z
SUMMARY:Ask the Grantwriting Expert Q&A
CONTACT:Cecilia Peredo\, 502-852-2496\, email:resdevel@louisville.edu
DESCRIPTION:Do you have questions about your NIH grant application? Did you
  learn something in our grantwriting courses about which you’d like more
  information?\n\nNow’s your chance to get 1:1 feedback!\n\nEvery other W
 ednesday at 3pm ET, you can join Meg Bouvier PhD live. Come and go from th
 e call whenever you’d like, ask questions, and learn as Meg answers othe
 r people’s questions.\n\nThese sessions often include mini-tutorials on 
 grantwriting topics of interest. In addition, on select weeks, she will in
 vite a colleague to share their expertise.\n\nFor 45 minutes, you can quiz
  Meg about your biggest challenges and questions. On select weeks, she wil
 l invite a grantwriting colleagues to join her in fielding your toughest q
 uestions.
URL:https://events.stage.louisville.edu/events/ask-grantwriting-expert-qa/2
 026-08-19
END:VEVENT
BEGIN:VEVENT
UID:06e12aaf-d9e6-42d1-9f55-94eebdac5782@events.stage.louisville.edu
DTSTAMP:20260423T122408Z
DTSTART:20260902T190000Z
DTEND:20260902T194500Z
SUMMARY:Ask the Grantwriting Expert Q&A
CONTACT:Cecilia Peredo\, 502-852-2496\, email:resdevel@louisville.edu
DESCRIPTION:Do you have questions about your NIH grant application? Did you
  learn something in our grantwriting courses about which you’d like more
  information?\n\nNow’s your chance to get 1:1 feedback!\n\nEvery other W
 ednesday at 3pm ET, you can join Meg Bouvier PhD live. Come and go from th
 e call whenever you’d like, ask questions, and learn as Meg answers othe
 r people’s questions.\n\nThese sessions often include mini-tutorials on 
 grantwriting topics of interest. In addition, on select weeks, she will in
 vite a colleague to share their expertise.\n\nFor 45 minutes, you can quiz
  Meg about your biggest challenges and questions. On select weeks, she wil
 l invite a grantwriting colleagues to join her in fielding your toughest q
 uestions.
URL:https://events.stage.louisville.edu/events/ask-grantwriting-expert-qa/2
 026-09-02
END:VEVENT
BEGIN:VEVENT
UID:9bb624fd-425f-4494-99ee-371b6f5c31cc@events.stage.louisville.edu
DTSTAMP:20260423T122320Z
DTSTART:20260916T190000Z
DTEND:20260916T194500Z
SUMMARY:Ask the Grantwriting Expert Q&A
CONTACT:Cecilia Peredo\, 502-852-2496\, email:resdevel@louisville.edu
DESCRIPTION:Do you have questions about your NIH grant application? Did you
  learn something in our grantwriting courses about which you’d like more
  information?\n\nNow’s your chance to get 1:1 feedback!\n\nEvery other W
 ednesday at 3pm ET, you can join Meg Bouvier PhD live. Come and go from th
 e call whenever you’d like, ask questions, and learn as Meg answers othe
 r people’s questions.\n\nThese sessions often include mini-tutorials on 
 grantwriting topics of interest. In addition, on select weeks, she will in
 vite a colleague to share their expertise.\n\nFor 45 minutes, you can quiz
  Meg about your biggest challenges and questions. On select weeks, she wil
 l invite a grantwriting colleagues to join her in fielding your toughest q
 uestions.
URL:https://events.stage.louisville.edu/events/ask-grantwriting-expert-qa/2
 026-09-16
END:VEVENT
BEGIN:VEVENT
UID:3b937d7a-5ff9-4b25-94e1-814f69cc570a@events.stage.louisville.edu
DTSTAMP:20260423T122320Z
DTSTART:20260930T190000Z
DTEND:20260930T194500Z
SUMMARY:Ask the Grantwriting Expert Q&A
CONTACT:Cecilia Peredo\, 502-852-2496\, email:resdevel@louisville.edu
DESCRIPTION:Do you have questions about your NIH grant application? Did you
  learn something in our grantwriting courses about which you’d like more
  information?\n\nNow’s your chance to get 1:1 feedback!\n\nEvery other W
 ednesday at 3pm ET, you can join Meg Bouvier PhD live. Come and go from th
 e call whenever you’d like, ask questions, and learn as Meg answers othe
 r people’s questions.\n\nThese sessions often include mini-tutorials on 
 grantwriting topics of interest. In addition, on select weeks, she will in
 vite a colleague to share their expertise.\n\nFor 45 minutes, you can quiz
  Meg about your biggest challenges and questions. On select weeks, she wil
 l invite a grantwriting colleagues to join her in fielding your toughest q
 uestions.
URL:https://events.stage.louisville.edu/events/ask-grantwriting-expert-qa/2
 026-09-30
END:VEVENT
BEGIN:VEVENT
UID:481a71a5-3595-4441-bfe5-0b0833fdb26f@events.stage.louisville.edu
DTSTAMP:20260423T122323Z
DTSTART:20261014T190000Z
DTEND:20261014T194500Z
SUMMARY:Ask the Grantwriting Expert Q&A
CONTACT:Cecilia Peredo\, 502-852-2496\, email:resdevel@louisville.edu
DESCRIPTION:Do you have questions about your NIH grant application? Did you
  learn something in our grantwriting courses about which you’d like more
  information?\n\nNow’s your chance to get 1:1 feedback!\n\nEvery other W
 ednesday at 3pm ET, you can join Meg Bouvier PhD live. Come and go from th
 e call whenever you’d like, ask questions, and learn as Meg answers othe
 r people’s questions.\n\nThese sessions often include mini-tutorials on 
 grantwriting topics of interest. In addition, on select weeks, she will in
 vite a colleague to share their expertise.\n\nFor 45 minutes, you can quiz
  Meg about your biggest challenges and questions. On select weeks, she wil
 l invite a grantwriting colleagues to join her in fielding your toughest q
 uestions.
URL:https://events.stage.louisville.edu/events/ask-grantwriting-expert-qa/2
 026-10-14
END:VEVENT
BEGIN:VEVENT
UID:66bae6f7-4387-4463-a5b7-0ced8b714e44@events.stage.louisville.edu
DTSTAMP:20260423T122308Z
DTSTART:20261028T190000Z
DTEND:20261028T194500Z
SUMMARY:Ask the Grantwriting Expert Q&A
CONTACT:Cecilia Peredo\, 502-852-2496\, email:resdevel@louisville.edu
DESCRIPTION:Do you have questions about your NIH grant application? Did you
  learn something in our grantwriting courses about which you’d like more
  information?\n\nNow’s your chance to get 1:1 feedback!\n\nEvery other W
 ednesday at 3pm ET, you can join Meg Bouvier PhD live. Come and go from th
 e call whenever you’d like, ask questions, and learn as Meg answers othe
 r people’s questions.\n\nThese sessions often include mini-tutorials on 
 grantwriting topics of interest. In addition, on select weeks, she will in
 vite a colleague to share their expertise.\n\nFor 45 minutes, you can quiz
  Meg about your biggest challenges and questions. On select weeks, she wil
 l invite a grantwriting colleagues to join her in fielding your toughest q
 uestions.
URL:https://events.stage.louisville.edu/events/ask-grantwriting-expert-qa/2
 026-10-28
END:VEVENT
BEGIN:VEVENT
UID:f06ec347-48d8-42d1-ba08-22ba2d6832f8@events.stage.louisville.edu
DTSTAMP:20260423T122321Z
DTSTART:20261111T200000Z
DTEND:20261111T204500Z
SUMMARY:Ask the Grantwriting Expert Q&A
CONTACT:Cecilia Peredo\, 502-852-2496\, email:resdevel@louisville.edu
DESCRIPTION:Do you have questions about your NIH grant application? Did you
  learn something in our grantwriting courses about which you’d like more
  information?\n\nNow’s your chance to get 1:1 feedback!\n\nEvery other W
 ednesday at 3pm ET, you can join Meg Bouvier PhD live. Come and go from th
 e call whenever you’d like, ask questions, and learn as Meg answers othe
 r people’s questions.\n\nThese sessions often include mini-tutorials on 
 grantwriting topics of interest. In addition, on select weeks, she will in
 vite a colleague to share their expertise.\n\nFor 45 minutes, you can quiz
  Meg about your biggest challenges and questions. On select weeks, she wil
 l invite a grantwriting colleagues to join her in fielding your toughest q
 uestions.
URL:https://events.stage.louisville.edu/events/ask-grantwriting-expert-qa/2
 026-11-11
END:VEVENT
BEGIN:VEVENT
UID:ec317232-d7c1-4aa9-8faf-7f62ba2030b7@events.stage.louisville.edu
DTSTAMP:20260423T122321Z
DTSTART:20261125T200000Z
DTEND:20261125T204500Z
SUMMARY:Ask the Grantwriting Expert Q&A
CONTACT:Cecilia Peredo\, 502-852-2496\, email:resdevel@louisville.edu
DESCRIPTION:Do you have questions about your NIH grant application? Did you
  learn something in our grantwriting courses about which you’d like more
  information?\n\nNow’s your chance to get 1:1 feedback!\n\nEvery other W
 ednesday at 3pm ET, you can join Meg Bouvier PhD live. Come and go from th
 e call whenever you’d like, ask questions, and learn as Meg answers othe
 r people’s questions.\n\nThese sessions often include mini-tutorials on 
 grantwriting topics of interest. In addition, on select weeks, she will in
 vite a colleague to share their expertise.\n\nFor 45 minutes, you can quiz
  Meg about your biggest challenges and questions. On select weeks, she wil
 l invite a grantwriting colleagues to join her in fielding your toughest q
 uestions.
URL:https://events.stage.louisville.edu/events/ask-grantwriting-expert-qa/2
 026-11-25
END:VEVENT
BEGIN:VEVENT
UID:8afb8187-0cc5-4211-bf05-a3efdbc16415@events.stage.louisville.edu
DTSTAMP:20260423T122409Z
DTSTART:20261209T200000Z
DTEND:20261209T204500Z
SUMMARY:Ask the Grantwriting Expert Q&A
CONTACT:Cecilia Peredo\, 502-852-2496\, email:resdevel@louisville.edu
DESCRIPTION:Do you have questions about your NIH grant application? Did you
  learn something in our grantwriting courses about which you’d like more
  information?\n\nNow’s your chance to get 1:1 feedback!\n\nEvery other W
 ednesday at 3pm ET, you can join Meg Bouvier PhD live. Come and go from th
 e call whenever you’d like, ask questions, and learn as Meg answers othe
 r people’s questions.\n\nThese sessions often include mini-tutorials on 
 grantwriting topics of interest. In addition, on select weeks, she will in
 vite a colleague to share their expertise.\n\nFor 45 minutes, you can quiz
  Meg about your biggest challenges and questions. On select weeks, she wil
 l invite a grantwriting colleagues to join her in fielding your toughest q
 uestions.
URL:https://events.stage.louisville.edu/events/ask-grantwriting-expert-qa/2
 026-12-09
END:VEVENT
BEGIN:VEVENT
UID:6218237d-c42c-419e-97c6-4fa24d208165@events.stage.louisville.edu
DTSTAMP:20260423T122322Z
DTSTART:20261223T200000Z
DTEND:20261223T204500Z
SUMMARY:Ask the Grantwriting Expert Q&A
CONTACT:Cecilia Peredo\, 502-852-2496\, email:resdevel@louisville.edu
DESCRIPTION:Do you have questions about your NIH grant application? Did you
  learn something in our grantwriting courses about which you’d like more
  information?\n\nNow’s your chance to get 1:1 feedback!\n\nEvery other W
 ednesday at 3pm ET, you can join Meg Bouvier PhD live. Come and go from th
 e call whenever you’d like, ask questions, and learn as Meg answers othe
 r people’s questions.\n\nThese sessions often include mini-tutorials on 
 grantwriting topics of interest. In addition, on select weeks, she will in
 vite a colleague to share their expertise.\n\nFor 45 minutes, you can quiz
  Meg about your biggest challenges and questions. On select weeks, she wil
 l invite a grantwriting colleagues to join her in fielding your toughest q
 uestions.
URL:https://events.stage.louisville.edu/events/ask-grantwriting-expert-qa/2
 026-12-23
END:VEVENT
END:VCALENDAR