BEGIN:VCALENDAR
VERSION:2.0
PRODID:-//Drupal//recurring_events_ical//2.0//EN
BEGIN:VEVENT
UID:c8f875b7-3246-4afb-b1cb-4a878f1b9431@events.stage.louisville.edu
DTSTAMP:20260422T170740Z
DTSTART:20260417T190000Z
DTEND:20260417T190000Z
SUMMARY:Rock Your Profile
CONTACT:Elena Fortunato-Wright\, 5028525643\, email:e0fort04@louisville.edu
DESCRIPTION:Take a step to make the most of your LinkedIn profile. Join thi
 s session to learn what it takes to build a great profile that speaks dire
 ctly to your ideal audience and get your questions answered by a LinkedIn 
 expert. Learn more and register\n 
URL:https://events.stage.louisville.edu/events/rock-your-profile-0/2026-04-
 17
END:VEVENT
BEGIN:VEVENT
UID:25acd9fd-0ef4-4c30-9472-d0d7611f9541@events.stage.louisville.edu
DTSTAMP:20260423T045234Z
DTSTART:20260422T010000Z
DTEND:20260422T010000Z
SUMMARY:Rock Your Profile
CONTACT:Elena Fortunato-Wright\, 5028525643\, email:e0fort04@louisville.edu
DESCRIPTION:Take a step to make the most of your LinkedIn profile. Join thi
 s session to learn what it takes to build a great profile that speaks dire
 ctly to your ideal audience and get your questions answered by a LinkedIn 
 expert. Learn more and register\n 
URL:https://events.stage.louisville.edu/events/rock-your-profile-0/2026-04-
 21
END:VEVENT
BEGIN:VEVENT
UID:c6f9812e-e53f-4ae6-8193-9ba404278056@events.stage.louisville.edu
DTSTAMP:20260423T095926Z
DTSTART:20260427T110000Z
DTEND:20260427T110000Z
SUMMARY:Rock Your Profile
CONTACT:Elena Fortunato-Wright\, 5028525643\, email:e0fort04@louisville.edu
DESCRIPTION:Take a step to make the most of your LinkedIn profile. Join thi
 s session to learn what it takes to build a great profile that speaks dire
 ctly to your ideal audience and get your questions answered by a LinkedIn 
 expert. Learn more and register\n 
URL:https://events.stage.louisville.edu/events/rock-your-profile-0/2026-04-
 27
END:VEVENT
BEGIN:VEVENT
UID:91d4d223-5be9-4d38-8b23-d721ebbf96ab@events.stage.louisville.edu
DTSTAMP:20260423T100021Z
DTSTART:20260427T190000Z
DTEND:20260427T190000Z
SUMMARY:Rock Your Profile
CONTACT:Elena Fortunato-Wright\, 5028525643\, email:e0fort04@louisville.edu
DESCRIPTION:Take a step to make the most of your LinkedIn profile. Join thi
 s session to learn what it takes to build a great profile that speaks dire
 ctly to your ideal audience and get your questions answered by a LinkedIn 
 expert. Learn more and register\n 
URL:https://events.stage.louisville.edu/events/rock-your-profile-0/2026-04-
 27-0
END:VEVENT
BEGIN:VEVENT
UID:557cb966-e2b0-4afa-ad21-bb35566cb64e@events.stage.louisville.edu
DTSTAMP:20260423T122405Z
DTSTART:20260430T033000Z
DTEND:20260430T033000Z
SUMMARY:Rock Your Profile
CONTACT:Elena Fortunato-Wright\, 5028525643\, email:e0fort04@louisville.edu
DESCRIPTION:Take a step to make the most of your LinkedIn profile. Join thi
 s session to learn what it takes to build a great profile that speaks dire
 ctly to your ideal audience and get your questions answered by a LinkedIn 
 expert. Learn more and register\n 
URL:https://events.stage.louisville.edu/events/rock-your-profile-0/2026-04-
 29
END:VEVENT
BEGIN:VEVENT
UID:465fd2c1-04d1-4434-94f5-5fc0e7ae2ac7@events.stage.louisville.edu
DTSTAMP:20260423T122435Z
DTSTART:20260506T033000Z
DTEND:20260506T033000Z
SUMMARY:Rock Your Profile
CONTACT:Elena Fortunato-Wright\, 5028525643\, email:e0fort04@louisville.edu
DESCRIPTION:Take a step to make the most of your LinkedIn profile. Join thi
 s session to learn what it takes to build a great profile that speaks dire
 ctly to your ideal audience and get your questions answered by a LinkedIn 
 expert. Learn more and register\n 
URL:https://events.stage.louisville.edu/events/rock-your-profile-0/2026-05-
 05
END:VEVENT
BEGIN:VEVENT
UID:77c1a12f-3c03-4522-b858-5b9010bb6b5d@events.stage.louisville.edu
DTSTAMP:20260423T122434Z
DTSTART:20260511T190000Z
DTEND:20260511T190000Z
SUMMARY:Rock Your Profile
CONTACT:Elena Fortunato-Wright\, 5028525643\, email:e0fort04@louisville.edu
DESCRIPTION:Take a step to make the most of your LinkedIn profile. Join thi
 s session to learn what it takes to build a great profile that speaks dire
 ctly to your ideal audience and get your questions answered by a LinkedIn 
 expert. Learn more and register\n 
URL:https://events.stage.louisville.edu/events/rock-your-profile-0/2026-05-
 11
END:VEVENT
BEGIN:VEVENT
UID:3f7dab09-6264-4bf1-8032-5e3cde72f850@events.stage.louisville.edu
DTSTAMP:20260423T122436Z
DTSTART:20260520T040000Z
DTEND:20260520T040000Z
SUMMARY:Rock Your Profile
CONTACT:Elena Fortunato-Wright\, 5028525643\, email:e0fort04@louisville.edu
DESCRIPTION:Take a step to make the most of your LinkedIn profile. Join thi
 s session to learn what it takes to build a great profile that speaks dire
 ctly to your ideal audience and get your questions answered by a LinkedIn 
 expert. Learn more and register\n 
URL:https://events.stage.louisville.edu/events/rock-your-profile-0/2026-05-
 20
END:VEVENT
BEGIN:VEVENT
UID:8910fa88-bf73-413b-9514-30e4a2adbb6b@events.stage.louisville.edu
DTSTAMP:20260423T122434Z
DTSTART:20260528T033000Z
DTEND:20260528T033000Z
SUMMARY:Rock Your Profile
CONTACT:Elena Fortunato-Wright\, 5028525643\, email:e0fort04@louisville.edu
DESCRIPTION:Take a step to make the most of your LinkedIn profile. Join thi
 s session to learn what it takes to build a great profile that speaks dire
 ctly to your ideal audience and get your questions answered by a LinkedIn 
 expert. Learn more and register\n 
URL:https://events.stage.louisville.edu/events/rock-your-profile-0/2026-05-
 27
END:VEVENT
BEGIN:VEVENT
UID:1356311f-7cfe-415b-b5ae-d84d3ec2c174@events.stage.louisville.edu
DTSTAMP:20260423T122406Z
DTSTART:20260529T110000Z
DTEND:20260529T110000Z
SUMMARY:Rock Your Profile
CONTACT:Elena Fortunato-Wright\, 5028525643\, email:e0fort04@louisville.edu
DESCRIPTION:Take a step to make the most of your LinkedIn profile. Join thi
 s session to learn what it takes to build a great profile that speaks dire
 ctly to your ideal audience and get your questions answered by a LinkedIn 
 expert. Learn more and register\n 
URL:https://events.stage.louisville.edu/events/rock-your-profile-0/2026-05-
 29
END:VEVENT
BEGIN:VEVENT
UID:45f5831e-b628-4717-8e1c-1795781c50fb@events.stage.louisville.edu
DTSTAMP:20260423T122432Z
DTSTART:20260529T190000Z
DTEND:20260529T190000Z
SUMMARY:Rock Your Profile
CONTACT:Elena Fortunato-Wright\, 5028525643\, email:e0fort04@louisville.edu
DESCRIPTION:Take a step to make the most of your LinkedIn profile. Join thi
 s session to learn what it takes to build a great profile that speaks dire
 ctly to your ideal audience and get your questions answered by a LinkedIn 
 expert. Learn more and register\n 
URL:https://events.stage.louisville.edu/events/rock-your-profile-0/2026-05-
 29-0
END:VEVENT
BEGIN:VEVENT
UID:31580f6a-3c9f-4396-99be-61fc2a13fbda@events.stage.louisville.edu
DTSTAMP:20260423T122435Z
DTSTART:20260603T033000Z
DTEND:20260603T033000Z
SUMMARY:Rock Your Profile
CONTACT:Elena Fortunato-Wright\, 5028525643\, email:e0fort04@louisville.edu
DESCRIPTION:Take a step to make the most of your LinkedIn profile. Join thi
 s session to learn what it takes to build a great profile that speaks dire
 ctly to your ideal audience and get your questions answered by a LinkedIn 
 expert. Learn more and register\n 
URL:https://events.stage.louisville.edu/events/rock-your-profile-0/2026-06-
 02
END:VEVENT
BEGIN:VEVENT
UID:6e44a5ed-c715-42f1-9307-5bf8d489b47e@events.stage.louisville.edu
DTSTAMP:20260423T122407Z
DTSTART:20260605T110000Z
DTEND:20260605T110000Z
SUMMARY:Rock Your Profile
CONTACT:Elena Fortunato-Wright\, 5028525643\, email:e0fort04@louisville.edu
DESCRIPTION:Take a step to make the most of your LinkedIn profile. Join thi
 s session to learn what it takes to build a great profile that speaks dire
 ctly to your ideal audience and get your questions answered by a LinkedIn 
 expert. Learn more and register\n 
URL:https://events.stage.louisville.edu/events/rock-your-profile-0/2026-06-
 05
END:VEVENT
BEGIN:VEVENT
UID:e565d96c-5a5e-40bb-b7b3-c65b58f9c055@events.stage.louisville.edu
DTSTAMP:20260423T122432Z
DTSTART:20260605T190000Z
DTEND:20260605T190000Z
SUMMARY:Rock Your Profile
CONTACT:Elena Fortunato-Wright\, 5028525643\, email:e0fort04@louisville.edu
DESCRIPTION:Take a step to make the most of your LinkedIn profile. Join thi
 s session to learn what it takes to build a great profile that speaks dire
 ctly to your ideal audience and get your questions answered by a LinkedIn 
 expert. Learn more and register\n 
URL:https://events.stage.louisville.edu/events/rock-your-profile-0/2026-06-
 05-0
END:VEVENT
BEGIN:VEVENT
UID:9fde5fed-55b9-45b9-ba81-beba6fb19335@events.stage.louisville.edu
DTSTAMP:20260423T122437Z
DTSTART:20260615T190000Z
DTEND:20260615T190000Z
SUMMARY:Rock Your Profile
CONTACT:Elena Fortunato-Wright\, 5028525643\, email:e0fort04@louisville.edu
DESCRIPTION:Take a step to make the most of your LinkedIn profile. Join thi
 s session to learn what it takes to build a great profile that speaks dire
 ctly to your ideal audience and get your questions answered by a LinkedIn 
 expert. Learn more and register\n 
URL:https://events.stage.louisville.edu/events/rock-your-profile-0/2026-06-
 15
END:VEVENT
BEGIN:VEVENT
UID:7cdf1c91-3027-4941-9a88-aaff5e9ab101@events.stage.louisville.edu
DTSTAMP:20260423T122407Z
DTSTART:20260625T033000Z
DTEND:20260625T033000Z
SUMMARY:Rock Your Profile
CONTACT:Elena Fortunato-Wright\, 5028525643\, email:e0fort04@louisville.edu
DESCRIPTION:Take a step to make the most of your LinkedIn profile. Join thi
 s session to learn what it takes to build a great profile that speaks dire
 ctly to your ideal audience and get your questions answered by a LinkedIn 
 expert. Learn more and register\n 
URL:https://events.stage.louisville.edu/events/rock-your-profile-0/2026-06-
 24
END:VEVENT
END:VCALENDAR