BEGIN:VCALENDAR
VERSION:2.0
PRODID:-//Drupal//recurring_events_ical//2.0//EN
BEGIN:VEVENT
UID:052329a0-9493-4883-b61a-5ae405a09e5c@events.stage.louisville.edu
DTSTAMP:20260423T171718Z
DTSTART:20260504T220000Z
DTEND:20260504T230000Z
SUMMARY:Master of Science in Human Resources and Organizational Development
  Virtual Info Session
CONTACT:Online Learning  \, 800-871-8635\, email:online@louisville.edu
DESCRIPTION:Are you interested in learning more about the Master of Scienc
 e in Human Resources and Organizational Development (MSHROD) Program at 
 the University of Louisville? \n\nThere are spots available, and we welc
 ome you to join us to learn more information about the program and the app
 lication process. We endeavor to answer all your questions.  \n  \
 nJoin us to learn more about how the MSHROD degree can be an investment fo
 r your professional advancement.  
URL:https://events.stage.louisville.edu/events/master-science-human-resourc
 es-and-organizational-development-virtual-info-session-0/2026-05
END:VEVENT
BEGIN:VEVENT
UID:f2c2c59d-c1ec-458e-a342-48005853f55d@events.stage.louisville.edu
DTSTAMP:20260423T171811Z
DTSTART:20260505T201500Z
DTEND:20260505T204500Z
SUMMARY:Master of Science in Human Resources and Organizational Development
  Virtual Info Session
CONTACT:Online Learning  \, 800-871-8635\, email:online@louisville.edu
DESCRIPTION:Are you interested in learning more about the Master of Scienc
 e in Human Resources and Organizational Development (MSHROD) Program at 
 the University of Louisville? \n\nThere are spots available, and we welc
 ome you to join us to learn more information about the program and the app
 lication process. We endeavor to answer all your questions.  \n  \
 nJoin us to learn more about how the MSHROD degree can be an investment fo
 r your professional advancement.  
URL:https://events.stage.louisville.edu/events/master-science-human-resourc
 es-and-organizational-development-virtual-info-session-0/2026-0
END:VEVENT
END:VCALENDAR