BEGIN:VCALENDAR
VERSION:2.0
PRODID:-//Drupal//recurring_events_ical//2.0//EN
BEGIN:VEVENT
UID:f4d92d8f-3213-49cf-843c-e6ba1116c2c4@events.stage.louisville.edu
DTSTAMP:20260423T092222Z
DTSTART:20260423T180000Z
DTEND:20260423T200000Z
SUMMARY:Pause 4 Paws
DESCRIPTION:Finals week is coming and while we can't cancel your exams, we
  can offer something better than a stress spiral.\n\nJoin us at Ekstrom 
 Library on Thursday, April 23 from 2–4 PM for a serotonin boost cour
 tesy of puppies from the Humane Society. Swing by between study sessions,
  reset your brain, and leave a little less stressed (and possibly covered 
 in dog hair.)\n\nNo sign-ups. No expectations. Just show up, breathe, and 
 pet a dog.
GEO:38.2169;-85.7605
LOCATION:Ekstrom Library
URL:https://events.stage.louisville.edu/events/pause-4-paws/2026-04-23
END:VEVENT
END:VCALENDAR