BEGIN:VCALENDAR
VERSION:2.0
PRODID:-//Drupal//recurring_events_ical//2.0//EN
BEGIN:VEVENT
UID:9706728b-a765-4e45-9913-096db9f42157@events.stage.louisville.edu
DTSTAMP:20260423T095531Z
DTSTART:20260506T133000Z
DTEND:20260506T170000Z
SUMMARY:Interprofessional Model for Practice, Age-Friendly Care and Teamwor
 k (IMPACT 4Ms)
CONTACT:Justin Magnuson\, justin.magnuson@louisville.edu\, email:justin.mag
 nuson@louisville.edu
DESCRIPTION:Are you a health professional or learner interested in working 
 with older adults? Join us on May 6, 9:30 a.m.–1 p.m. ET, for our Interp
 rofessional Model for Practice, Age-Friendly Care and Teamwork (IMPACT 4Ms
 ).\n\nThis virtual immersive training offers essential learning and skill-
 building for professionals across different specialties who want to improv
 e care for older adults.\n\nLearn more here  https://bit.ly/IMPACT4Ms
URL:https://events.stage.louisville.edu/events/interprofessional-model-prac
 tice-age-friendly-care-and-teamwork-impact-4ms-0/2026-05-06
END:VEVENT
END:VCALENDAR