BEGIN:VCALENDAR
VERSION:2.0
PRODID:-//Drupal//recurring_events_ical//2.0//EN
BEGIN:VEVENT
UID:b03fb7a7-7eb3-4d6c-a3fa-81ccd6444684@events.stage.louisville.edu
DTSTAMP:20260423T135624Z
DTSTART:20260422T190000Z
DTEND:20260422T200000Z
SUMMARY:Louisville Organoid Research Network Seminar: Christie Buonpane, MD
CONTACT:Rand Haley\, 502-852-6512\, email:rand.haley@louisville.edu
DESCRIPTION:The Office of Research and Innovation invites you to the inaugu
 ral monthly seminar of the Louisville Organoid Research Network. Dr. Chris
 tie Buonpane, Assistant Professor, Department of Surgery (Pediatric Divisi
 on), School of Medicine will deliver a seminar titled: "Human-Derived Orga
 noids and New Approach Methodologies: Applications, Opportunities, and Fut
 ure Directions." The seminar will take place on Wednesday, April 22, 2026,
  at 3:00 pm ET, in CTRB 123 and via Teams. \n\nFollowing this inaugural s
 eminar on April 22, the monthly series will be held on the 2nd Tuesdays of
  every month at 3 p.m. \n\nThe Louisville Organoid Research Network was l
 aunched in February 2026 to connect UofL researchers working with or inter
 ested in organoids and human-relevant model systems. To join the Network's
  listserv and receive invitations to the monthly seminars and Network upda
 tes, follow the following steps: \n\n1.  Send an email to: listserv@list
 serv.louisville.edu\n2.  Leave the subject line blank\n3.  In the body o
 f the message, type:\nSUBSCRIBE ORGANOID-RESEARCH-NETWORK [Your Full Name]
 \n(Example: SUBSCRIBE ORGANOID-RESEARCH-NETWORK Jane Smith)\n\nFor more in
 formation, feel free to reach out to osri@louisville.edu (Strategic Resear
 ch Infrastructure, Office of Research and Innovation, University of Louisv
 ille).
GEO:38.2490;-85.7422
LOCATION:Kosair for Kids Clinical & Translational Research Building (K4KCTR
 B)
URL:https://events.stage.louisville.edu/events/louisville-organoid-research
 -network-seminar-christie-buonpane-md/2026-04-22
END:VEVENT
END:VCALENDAR