BEGIN:VCALENDAR
VERSION:2.0
PRODID:-//Drupal//recurring_events_ical//2.0//EN
BEGIN:VEVENT
UID:fd22eeec-73f1-443c-8597-52d4a98f5686@events.stage.louisville.edu
DTSTAMP:20260423T135624Z
DTSTART:20260416T130000Z
DTEND:20260416T140000Z
SUMMARY:M&I Seminar Series Presents Dr. Michael Gebhardt
CONTACT:Blythe Senn\, 502-852-6208\, email:blythe.senn@louisville.edu
DESCRIPTION:The Department of Microbiology and Immunology Seminar Series P
 resents a Research Seminar:\n\n"Exploring the essentiality of Post-Transcr
 iptional Regulators in Acinetobacter baumannii"\n\nBy:\n\nMichael Gebhard
 t\n\nAssistant Professor\n\nDepartment of Microbiology and Immunology\n\nU
 niversity of Iowa
GEO:38.2490;-85.7422
LOCATION:Kosair for Kids Clinical & Translational Research Building (K4KCTR
 B)
URL:https://events.stage.louisville.edu/events/mi-seminar-series-presents-d
 r-michael-gebhardt/2026-04-16
END:VEVENT
END:VCALENDAR