BEGIN:VCALENDAR
VERSION:2.0
PRODID:-//Drupal//recurring_events_ical//2.0//EN
BEGIN:VEVENT
UID:daa321d5-915e-456c-9128-30437e83cdb1@events.stage.louisville.edu
DTSTAMP:20260423T094036Z
DTSTART:20260423T133000Z
DTEND:20260423T143000Z
SUMMARY:M&I Seminar Series Presents Dr. June Round
CONTACT:Blythe Senn\, 502-852-6208\, email:blythe.senn@louisville.edu
DESCRIPTION:The Department of Microbiology and Immunology Seminar Series P
 resents a Research Seminar:\n\n"Microbiota-Immune interactions that promot
 e health"\n\nBy:\n\nJune Round\n\n \n\nProfessor in Pathology\n\nH.A and 
 Edna Benning Presidential Endowed Chair\n\nCo-Director of MAGIC\n\nDivisio
 n of Microbiology and Immuology\n\nHuntsman Cancer Institute
GEO:38.2490;-85.7422
LOCATION:Kosair for Kids Clinical & Translational Research Building (K4KCTR
 B)
URL:https://events.stage.louisville.edu/events/mi-seminar-series-presents-d
 r-june-round/2026-04-23
END:VEVENT
END:VCALENDAR