BEGIN:VCALENDAR
VERSION:2.0
PRODID:-//Drupal//recurring_events_ical//2.0//EN
BEGIN:VEVENT
UID:49a63124-4820-48bc-ba57-4f14b6f812f1@events.stage.louisville.edu
DTSTAMP:20260423T104939Z
DTSTART:20260429T160000Z
DTEND:20260429T170000Z
SUMMARY:Master of Science in Biostatistics
CONTACT:Online Learning  \, 800-871-8635\, email:online@louisville.edu
DESCRIPTION:Are you interested in learning more about the Master of Scienc
 e in Biostatistics (MSBST) Program at the University of Louisville? \n\
 nThere are spots available, and we welcome you to join us to learn more in
 formation about the program and the application process. We endeavor to 
 answer all your questions.  \n  \nJoin us to learn more about how th
 e MSBST degree can be an investment for your professional advancement. 
  
URL:https://events.stage.louisville.edu/events/master-science-biostatistics
 /2026-04-29
END:VEVENT
END:VCALENDAR