BEGIN:VCALENDAR
VERSION:2.0
PRODID:-//Drupal//recurring_events_ical//2.0//EN
BEGIN:VEVENT
UID:f87de2ab-b768-4ea4-9f07-fcdaeae701e1@events.stage.louisville.edu
DTSTAMP:20260423T104938Z
DTSTART:20260429T160000Z
DTEND:20260429T170000Z
SUMMARY:Master of Science in Epidemiology Virtual Info Session
CONTACT:Online Learning  \, 800-871-8635\, email:online@louisville.edu
DESCRIPTION:Are you interested in learning more about the Master of Scienc
 e in Epidemiology (MSEPI) Program at the University of Louisville? \n\n
 There are spots available, and we welcome you to join us to learn more inf
 ormation about the program and the application process. We endeavor to a
 nswer all your questions.  \n  \nJoin us to learn more about how the
  MSEPI degree can be an investment for your professional advancement. 
  
URL:https://events.stage.louisville.edu/events/master-science-epidemiology-
 virtual-info-session-3/2026-04-29
END:VEVENT
END:VCALENDAR