BEGIN:VCALENDAR
VERSION:2.0
PRODID:-//Drupal//recurring_events_ical//2.0//EN
BEGIN:VEVENT
UID:03838006-e947-45d8-9ca4-a16137202247@events.stage.louisville.edu
DTSTAMP:20260423T171648Z
DTSTART:20260430T153000Z
DTEND:20260430T163000Z
SUMMARY:Doctor of Social Work Virtual Info Session 
CONTACT:Online Learning  \, 800-871-8635\, email:online@louisville.edu
DESCRIPTION:Are you interested in learning more about the Doctor of Social
  Work (DSW) Program at the University of Louisville? \n\nThere are spot
 s available, and we welcome you to join us to learn more information about
  the program and the application process. We endeavor to answer all your
  questions.  \n  \nJoin us to learn more about how the DSW degree 
 can be an investment for your professional advancement.  
URL:https://events.stage.louisville.edu/events/doctor-social-work-virtual-i
 nfo-session-17/2026-04-30
END:VEVENT
END:VCALENDAR