BEGIN:VCALENDAR
VERSION:2.0
PRODID:-//Drupal//recurring_events_ical//2.0//EN
BEGIN:VEVENT
UID:dfe1e876-e777-4a7a-92de-ad0ea6aa181a@events.stage.louisville.edu
DTSTAMP:20260423T171753Z
DTSTART:20260505T201500Z
DTEND:20260505T204500Z
SUMMARY:Master of Science in Health Professions Education Virtual Info Sess
 ion
CONTACT:Online Learning  \, 800-871-8635\, email:online@louisville.edu
DESCRIPTION:Are you interested in learning more about the Master of Scienc
 e in Health Professions Education (MSHPE) Program at the University of Lo
 uisville? \n\n There are spots available, and we welcome you to join u
 s to learn more information about the program and the application process.
  We endeavor to answer all your questions.  \n  \nJoin us to learn
  more about how the MSHPE degree can be an investment for your professio
 nal advancement.
URL:https://events.stage.louisville.edu/events/master-science-health-profes
 sions-education-virtual-info-session-8/2026-05-05
END:VEVENT
END:VCALENDAR