BEGIN:VCALENDAR
VERSION:2.0
PRODID:-//Drupal//recurring_events_ical//2.0//EN
BEGIN:VEVENT
UID:2be1f29d-ca51-4a36-98f7-854b455edd92@events.stage.louisville.edu
DTSTAMP:20260423T095856Z
DTSTART:20260424T140000Z
DTEND:20260424T150000Z
SUMMARY:Environmental Medicine Grand Rounds - Dr. Andrew Gibb
CONTACT:Lori Phillips\, 5028529235\, email:Lori.phillips.2@louisville.edu
DESCRIPTION:The Christina Lee Brown Envirome Institute's Environmental Medi
 cine Grand Rounds guest speaker is Dr. Andrew Gibb.  Dr. Gibb, Associate 
 Professor in the School of Medicine at the University of Louisville, will 
 present "Cardiac Energetic Inefficiency: From Physiological Workload to He
 art Failure". \n\nDr. Gibb will focus on describing how metabolic remodel
 ing during heart failure contributes to an energetic deficit, how the meta
 bolism of glutamine may impact energy provision during increased workloads
 , and evaluate whether targeting glutamine synthesis is an effective strat
 egy for heart failure. \n\nCME accredited not provided in this session.
URL:https://events.stage.louisville.edu/events/environmental-medicine-grand
 -rounds-dr-andrew-gibb/2026-04-24
END:VEVENT
END:VCALENDAR